BEGIN:VCALENDAR
VERSION:2.0
PRODID:-//ChamberMaster//Event Calendar 2.0//EN
METHOD:PUBLISH
X-PUBLISHED-TTL:P3D
REFRESH-INTERVAL:P3D
CALSCALE:GREGORIAN
BEGIN:VEVENT
DTSTART:20150324T183000Z
DTEND:20150324T203000Z
X-MICROSOFT-CDO-ALLDAYEVENT:FALSE
SUMMARY:March 24\, 2015 - Fraud Awareness Dialogue
DESCRIPTION:Fraud Awareness Dialogue: Spring 2015 \n\n\n\nJoin Better Business Bureau* and Surrey Board of Trade as we welcome industry experts and hear from them what is trending with fraud and how you can prevent unnecessary financial loss for your business. We will hear from the following industry panel experts on how financial losses for your business can be prevented:\n\n\n\nBBB Annual Top 10 Scams 2015 \n\nThis year's most pervasive scams for businesses and consumers.      Speaker: Jeanette Jackson\, Better Business Bureau Serving Mainland BC\n\n                BC Hydro\n\n                BC Securities Commission\n\n\n\nVideo Surveillance in the Workplace: \n\nTheft & Employee Privacy Do you know what you can and cannot do with video surveillance?\n\nSpeaker: Joseph Berta\, McQuarrie Hunter LLP\, Law Firm\n\n\n\nCurrent Trends in Fraud\, Identity Theft\, POS Compromises\, Prevention Methods for Business\n\nWhat can you do to prevent fraud from affecting your business?\n\nSpeaker: Cst. Amber Briggs and Cst. Raj Kumar\, Surrey RCMP Detachment - Fraud Unit\n\n\n\nFraud & Theft in the Workplace:\n\nWhere are you most vulnerable? Identify your vulnerabilities and what can be done to mitigate risks.\n\nSpeaker: Mark LaLonde\, Director International Operations Xpera Risk Mitigation & Investigation\n\n\n\nConnect with 120 of your local businesses at this exclusive event.
X-ALT-DESC;FMTTYPE=text/html:<strong>Fraud Awareness Dialogue: Spring 2015 </strong><br />\n<br />\nJoin Better Business Bureau* and Surrey Board of Trade as we welcome industry experts and hear from them what is trending with fraud and how you can prevent unnecessary financial loss for your business. We will hear from the following industry panel experts on how financial losses for your business can be prevented:<br />\n<br />\n<strong>BBB Annual Top 10 Scams 2015 </strong><br />\nThis year&rsquo\;s most pervasive scams for businesses and consumers. &nbsp\;&nbsp\;&nbsp\;&nbsp\; Speaker: Jeanette Jackson\, Better Business Bureau Serving Mainland BC<br />\n&nbsp\;&nbsp\;&nbsp\;&nbsp\;&nbsp\;&nbsp\;&nbsp\;&nbsp\;&nbsp\;&nbsp\;&nbsp\;&nbsp\;&nbsp\;&nbsp\;&nbsp\; BC Hydro<br />\n&nbsp\;&nbsp\;&nbsp\;&nbsp\;&nbsp\;&nbsp\;&nbsp\;&nbsp\;&nbsp\;&nbsp\;&nbsp\;&nbsp\;&nbsp\;&nbsp\;&nbsp\; BC Securities Commission<br />\n<br />\n<strong>Video Surveillance in the Workplace: </strong><br />\nTheft &amp\; Employee Privacy Do you know what you can and cannot do with video surveillance?<br />\nSpeaker: Joseph Berta\, McQuarrie Hunter LLP\, Law Firm<br />\n<br />\n<strong>Current Trends in Fraud\, Identity Theft\, POS Compromises\, Prevention Methods for Business</strong><br />\nWhat can you do to prevent fraud from affecting your business?<br />\nSpeaker: Cst. Amber Briggs and Cst. Raj Kumar\, Surrey RCMP Detachment - Fraud Unit<br />\n<br />\n<strong>Fraud &amp\; Theft in the Workplace:</strong><br />\nWhere are you most vulnerable? Identify your vulnerabilities and what can be done to mitigate risks.<br />\nSpeaker: Mark LaLonde\, Director International Operations Xpera Risk Mitigation &amp\; Investigation<br />\n<br />\nConnect with 120 of your local businesses at this exclusive event.<br />\n<br />\n&nbsp\;
LOCATION:Eaglequest Golf Course 7778 152 Street Surrey\, BC
UID:e.749.3317
SEQUENCE:3
DTSTAMP:20260423T090751Z
URL:https://business.businessinsurrey.com/events/details/march-24-2015-fraud-awareness-dialogue-03-24-2015-3317
END:VEVENT

END:VCALENDAR
