BEGIN:VCALENDAR
VERSION:2.0
PRODID:-//ChamberMaster//Event Calendar 2.0//EN
METHOD:PUBLISH
X-PUBLISHED-TTL:P3D
REFRESH-INTERVAL:P3D
CALSCALE:GREGORIAN
BEGIN:VEVENT
DTSTART:20160323T183000Z
DTEND:20160323T203000Z
X-MICROSOFT-CDO-ALLDAYEVENT:FALSE
SUMMARY:March 23\, 2016 - Federal Budget 2016 Lunch
DESCRIPTION:The first Federal Liberal Budget is being released this month. The Surrey Board of Trade will be providing an overview of the Federal Budget and what it means to your business and organizations\, to Surrey and to Canadian cities. \n\n\n\nThe event will encompass:\n\n1. Federal Budget Overview by Economist Ken Peacock\, Business Council of BC\n\n\n\n2. Surrey Perspective on Federal Government Investments:\n\nCity of Surrey Councillor Tom Gill\, Chair of the City of Surrey Finance Committee\n\n\n\n3. Federal Government Investments for Canadian cities\, and more specifically Metro Vancouver cities: Speaker to be confirmed
X-ALT-DESC;FMTTYPE=text/html:<span style="font-family:arial\;">The first Federal Liberal Budget is being released this month. The Surrey Board of Trade will be providing an overview of the Federal Budget and what it means to your business and organizations\, to Surrey and to Canadian cities. </span><br />\n<br />\n<span style="font-family:arial\;">The event will encompass:<br />\n1. Federal Budget Overview by Economist Ken Peacock\, Business Council of BC</span><br />\n<br />\n<span style="font-family:arial\;">2. Surrey Perspective on Federal Government Investments:<br />\nCity of Surrey Councillor Tom Gill\, Chair of the City of Surrey Finance Committee</span><br />\n<br />\n<span style="font-family:arial\;">3. Federal Government Investments for Canadian cities\, and more specifically Metro Vancouver cities: Speaker to be confirmed</span>
LOCATION:Eaglequest Golf Course (7778 152 Street\, Surrey)
UID:e.749.4865
SEQUENCE:3
DTSTAMP:20260424T040326Z
URL:https://business.businessinsurrey.com/events/details/march-23-2016-federal-budget-2016-lunch-03-23-2016-4865
END:VEVENT

END:VCALENDAR
