BEGIN:VCALENDAR
VERSION:2.0
PRODID:-//ChamberMaster//Event Calendar 2.0//EN
METHOD:PUBLISH
X-PUBLISHED-TTL:P3D
REFRESH-INTERVAL:P3D
CALSCALE:GREGORIAN
BEGIN:VEVENT
DTSTART:20150319T230000Z
DTEND:20150320T003000Z
X-MICROSOFT-CDO-ALLDAYEVENT:FALSE
SUMMARY:March 19\, 2015 - Surrey Transportation Town Hall Forum
DESCRIPTION:SURREY TRANSPORTATION TOWN HALL FORUMS\n\nCLOVERDALE\n\n\n\nOrganized by the Surrey Board of Trade and the Cloverdale Chamber of Commerce\n\nVOTING YES FOR TRANSPORTATION IMPROVEMENTS IN SURREY TO SUPPORT SURREY'S ECONOMY
X-ALT-DESC;FMTTYPE=text/html:SURREY TRANSPORTATION TOWN HALL FORUMS<br />\nCLOVERDALE<br />\n<br />\nOrganized by the Surrey Board of Trade and the Cloverdale Chamber of Commerce<br />\nVOTING YES FOR TRANSPORTATION IMPROVEMENTS IN SURREY TO SUPPORT SURREY&rsquo\;S ECONOMY
LOCATION:Fraser Downs 17755 60 Ave Surrey\, BC
UID:e.749.3319
SEQUENCE:3
DTSTAMP:20260423T090907Z
URL:https://business.businessinsurrey.com/events/details/march-19-2015-surrey-transportation-town-hall-forum-03-19-2015-3319
END:VEVENT

END:VCALENDAR
