BEGIN:VCALENDAR
VERSION:2.0
PRODID:-//ChamberMaster//Event Calendar 2.0//EN
METHOD:PUBLISH
X-PUBLISHED-TTL:P3D
REFRESH-INTERVAL:P3D
CALSCALE:GREGORIAN
BEGIN:VEVENT
DTSTART:20150319T190000Z
DTEND:20150319T203000Z
X-MICROSOFT-CDO-ALLDAYEVENT:FALSE
SUMMARY:March 19\, 2015 - FIJI Business Opportunities Session
DESCRIPTION:LOS ANGELES-BASED FIJIAN CONSULATE HOLDS FIJI BUSINESS OPPORTUNITIES SESSION IN SURREY \n\n\n\nThe Fijian Consulate from Los Angeles is inviting interested businesses\, wanting to do business in Fiji\, for a special lunch\, as their guest. This session is hosted in partnership with the Surrey Board of Trade.\n\n \n\nWhat will attendees learn?\n\n1.     The economic climate in Fiji\n\n2.     Industries that are prevalent in the country\n\n3.     Services/products that are needed in Fiji\n\n\n\nOne of the goals will be to determine if a Fiji Trade Mission (business and tourism-oriented) would be of interest to potential participants. Questions will be answered on what participants need to do to bring their Canadian business successfully into the Fijian market.
X-ALT-DESC;FMTTYPE=text/html:<span style="color: rgb(34\, 34\, 34)\; font-family: arial\; font-size: 12px\; font-style: normal\; font-variant: normal\; font-weight: normal\; letter-spacing: normal\; line-height: normal\; orphans: auto\; text-align: start\; text-indent: 0px\; text-transform: none\; white-space: normal\; widows: auto\; word-spacing: 0px\; -webkit-text-stroke-width: 0px\; background-color: rgb(255\, 255\, 255)\;"><span style="background-color: rgb(255\, 255\, 255)\;"><span style="color: rgb(34\, 34\, 34)\;"><span style="background-color: rgb(255\, 255\, 255)\;"><span style="color: rgb(34\, 34\, 34)\;"><strong>LOS ANGELES-BASED FIJIAN CONSULATE HOLDS FIJI BUSINESS OPPORTUNITIES SESSION IN SURREY</strong></span></span></span></span></span><span style="color: rgb(34\, 34\, 34)\; font-family: arial\; font-size: 12px\; font-style: normal\; font-variant: normal\; font-weight: normal\; letter-spacing: normal\; line-height: normal\; orphans: auto\; text-align: start\; text-indent: 0px\; text-transform: none\; white-space: normal\; widows: auto\; word-spacing: 0px\; -webkit-text-stroke-width: 0px\; float: none\; display: inline !important\; background-color: rgb(255\, 255\, 255)\;">&nbsp\;</span><br style="color: rgb(34\, 34\, 34)\; font-family: arial\; font-size: 12px\; font-style: normal\; font-variant: normal\; font-weight: normal\; letter-spacing: normal\; line-height: normal\; orphans: auto\; text-align: start\; text-indent: 0px\; text-transform: none\; white-space: normal\; widows: auto\; word-spacing: 0px\; -webkit-text-stroke-width: 0px\; background-color: rgb(255\, 255\, 255)\;" />\n<br style="color: rgb(34\, 34\, 34)\; font-family: arial\; font-size: 12px\; font-style: normal\; font-variant: normal\; font-weight: normal\; letter-spacing: normal\; line-height: normal\; orphans: auto\; text-align: start\; text-indent: 0px\; text-transform: none\; white-space: normal\; widows: auto\; word-spacing: 0px\; -webkit-text-stroke-width: 0px\; background-color: rgb(255\, 255\, 255)\;" />\n<span style="color: rgb(34\, 34\, 34)\; font-family: arial\; font-size: 12px\; font-style: normal\; font-variant: normal\; font-weight: normal\; letter-spacing: normal\; line-height: normal\; orphans: auto\; text-align: start\; text-indent: 0px\; text-transform: none\; white-space: normal\; widows: auto\; word-spacing: 0px\; -webkit-text-stroke-width: 0px\; float: none\; display: inline !important\; background-color: rgb(255\, 255\, 255)\;">The Fijian Consulate from Los Angeles is inviting interested businesses\, wanting to do business in Fiji\, for a special lunch\, as their guest. This session is hosted in partnership with the Surrey Board of Trade.</span><br style="color: rgb(34\, 34\, 34)\; font-family: arial\; font-size: 12px\; font-style: normal\; font-variant: normal\; font-weight: normal\; letter-spacing: normal\; line-height: normal\; orphans: auto\; text-align: start\; text-indent: 0px\; text-transform: none\; white-space: normal\; widows: auto\; word-spacing: 0px\; -webkit-text-stroke-width: 0px\; background-color: rgb(255\, 255\, 255)\;" />\n<span style="color: rgb(34\, 34\, 34)\; font-family: arial\; font-size: 12px\; font-style: normal\; font-variant: normal\; font-weight: normal\; letter-spacing: normal\; line-height: normal\; orphans: auto\; text-align: start\; text-indent: 0px\; text-transform: none\; white-space: normal\; widows: auto\; word-spacing: 0px\; -webkit-text-stroke-width: 0px\; float: none\; display: inline !important\; background-color: rgb(255\, 255\, 255)\;">&nbsp\;</span><br style="color: rgb(34\, 34\, 34)\; font-family: arial\; font-size: 12px\; font-style: normal\; font-variant: normal\; font-weight: normal\; letter-spacing: normal\; line-height: normal\; orphans: auto\; text-align: start\; text-indent: 0px\; text-transform: none\; white-space: normal\; widows: auto\; word-spacing: 0px\; -webkit-text-stroke-width: 0px\; background-color: rgb(255\, 255\, 255)\;" />\n<span style="color: rgb(34\, 34\, 34)\; font-family: arial\; font-size: 12px\; font-style: normal\; font-variant: normal\; font-weight: normal\; letter-spacing: normal\; line-height: normal\; orphans: auto\; text-align: start\; text-indent: 0px\; text-transform: none\; white-space: normal\; widows: auto\; word-spacing: 0px\; -webkit-text-stroke-width: 0px\; background-color: rgb(255\, 255\, 255)\;"><span style="background-color: rgb(255\, 255\, 255)\;"><span style="color: rgb(34\, 34\, 34)\;"><span style="background-color: rgb(255\, 255\, 255)\;"><span style="color: rgb(34\, 34\, 34)\;"><strong>What will attendees learn?</strong></span></span></span></span></span><br style="color: rgb(34\, 34\, 34)\; font-family: arial\; font-size: 12px\; font-style: normal\; font-variant: normal\; font-weight: normal\; letter-spacing: normal\; line-height: normal\; orphans: auto\; text-align: start\; text-indent: 0px\; text-transform: none\; white-space: normal\; widows: auto\; word-spacing: 0px\; -webkit-text-stroke-width: 0px\; background-color: rgb(255\, 255\, 255)\;" />\n<span style="color: rgb(34\, 34\, 34)\; font-family: arial\; font-size: 12px\; font-style: normal\; font-variant: normal\; font-weight: normal\; letter-spacing: normal\; line-height: normal\; orphans: auto\; text-align: start\; text-indent: 0px\; text-transform: none\; white-space: normal\; widows: auto\; word-spacing: 0px\; -webkit-text-stroke-width: 0px\; float: none\; display: inline !important\; background-color: rgb(255\, 255\, 255)\;">1.&nbsp\;&nbsp\;&nbsp\;&nbsp\; The economic climate in Fiji</span><br style="color: rgb(34\, 34\, 34)\; font-family: arial\; font-size: 12px\; font-style: normal\; font-variant: normal\; font-weight: normal\; letter-spacing: normal\; line-height: normal\; orphans: auto\; text-align: start\; text-indent: 0px\; text-transform: none\; white-space: normal\; widows: auto\; word-spacing: 0px\; -webkit-text-stroke-width: 0px\; background-color: rgb(255\, 255\, 255)\;" />\n<span style="color: rgb(34\, 34\, 34)\; font-family: arial\; font-size: 12px\; font-style: normal\; font-variant: normal\; font-weight: normal\; letter-spacing: normal\; line-height: normal\; orphans: auto\; text-align: start\; text-indent: 0px\; text-transform: none\; white-space: normal\; widows: auto\; word-spacing: 0px\; -webkit-text-stroke-width: 0px\; float: none\; display: inline !important\; background-color: rgb(255\, 255\, 255)\;">2.&nbsp\;&nbsp\;&nbsp\;&nbsp\; Industries that are prevalent in the country</span><br style="color: rgb(34\, 34\, 34)\; font-family: arial\; font-size: 12px\; font-style: normal\; font-variant: normal\; font-weight: normal\; letter-spacing: normal\; line-height: normal\; orphans: auto\; text-align: start\; text-indent: 0px\; text-transform: none\; white-space: normal\; widows: auto\; word-spacing: 0px\; -webkit-text-stroke-width: 0px\; background-color: rgb(255\, 255\, 255)\;" />\n<span style="color: rgb(34\, 34\, 34)\; font-family: arial\; font-size: 12px\; font-style: normal\; font-variant: normal\; font-weight: normal\; letter-spacing: normal\; line-height: normal\; orphans: auto\; text-align: start\; text-indent: 0px\; text-transform: none\; white-space: normal\; widows: auto\; word-spacing: 0px\; -webkit-text-stroke-width: 0px\; float: none\; display: inline !important\; background-color: rgb(255\, 255\, 255)\;">3.&nbsp\;&nbsp\;&nbsp\;&nbsp\; Services/products that are needed in Fiji</span><br style="color: rgb(34\, 34\, 34)\; font-family: arial\; font-size: 12px\; font-style: normal\; font-variant: normal\; font-weight: normal\; letter-spacing: normal\; line-height: normal\; orphans: auto\; text-align: start\; text-indent: 0px\; text-transform: none\; white-space: normal\; widows: auto\; word-spacing: 0px\; -webkit-text-stroke-width: 0px\; background-color: rgb(255\, 255\, 255)\;" />\n<br style="color: rgb(34\, 34\, 34)\; font-family: arial\; font-size: 12px\; font-style: normal\; font-variant: normal\; font-weight: normal\; letter-spacing: normal\; line-height: normal\; orphans: auto\; text-align: start\; text-indent: 0px\; text-transform: none\; white-space: normal\; widows: auto\; word-spacing: 0px\; -webkit-text-stroke-width: 0px\; background-color: rgb(255\, 255\, 255)\;" />\n<span style="color: rgb(34\, 34\, 34)\; font-family: arial\; font-size: 12px\; font-style: normal\; font-variant: normal\; font-weight: normal\; letter-spacing: normal\; line-height: normal\; orphans: auto\; text-align: start\; text-indent: 0px\; text-transform: none\; white-space: normal\; widows: auto\; word-spacing: 0px\; -webkit-text-stroke-width: 0px\; float: none\; display: inline !important\; background-color: rgb(255\, 255\, 255)\;">One of the goals will be to determine if a Fiji Trade Mission (business and tourism-oriented) would be of interest to potential participants. Questions will be answered on what participants need to do to bring their Canadian business successfully into the Fijian market.</span>
LOCATION:Northview Golf & Country Club 6857-168 Street\, Surrey\, B.C.
UID:e.749.3332
SEQUENCE:3
DTSTAMP:20260423T091315Z
URL:https://business.businessinsurrey.com/events/details/march-19-2015-fiji-business-opportunities-session-03-19-2015-3332
END:VEVENT

END:VCALENDAR
