BEGIN:VCALENDAR
VERSION:2.0
PRODID:-//ChamberMaster//Event Calendar 2.0//EN
METHOD:PUBLISH
X-PUBLISHED-TTL:P3D
REFRESH-INTERVAL:P3D
CALSCALE:GREGORIAN
BEGIN:VEVENT
DTSTART;VALUE=DATE:20100317
DTEND;VALUE=DATE:20100318
TRANSP:TRANSPARENT
X-MICROSOFT-CDO-ALLDAYEVENT:TRUE
SUMMARY:March 17\, 2010 - Marketing & Branding Workshop
DESCRIPTION:
X-ALT-DESC;FMTTYPE=text/html:
LOCATION:
UID:e.749.1590
SEQUENCE:3
DTSTAMP:20260423T011409Z
URL:https://business.businessinsurrey.com/events/details/march-17-2010-marketing-branding-workshop-03-17-2010-1590
END:VEVENT

END:VCALENDAR
