BEGIN:VCALENDAR
VERSION:2.0
PRODID:-//ChamberMaster//Event Calendar 2.0//EN
METHOD:PUBLISH
X-PUBLISHED-TTL:P3D
REFRESH-INTERVAL:P3D
CALSCALE:GREGORIAN
BEGIN:VEVENT
DTSTART:20190313T023000Z
DTEND:20190313T043000Z
X-MICROSOFT-CDO-ALLDAYEVENT:FALSE
SUMMARY:March 12\, 2019 - #BCTECHSummit’s Tech@NIGHT at Health and Technology District
DESCRIPTION:Join us at Surrey's Emerging Innovation Ecosystem for #BCTECHSummit's Tech@NIGHT Event featuring LED Robots & VR Artists\n\n\n\n\n\nCome to celebrate BC's booming tech scene!\n\n \n\nThe Health and Technology District in Surrey has partnered with #BCTECHSummit to host the most innovative Tech@NIGHT Event of 2019. Hang out with entrepreneurs\, innovators and techies from BC's extended innovation ecosystem in this extraordinary mixed reality experience featuring robots\, VR artists\, entertainment and more.\n\n\n\nRegister here.
X-ALT-DESC;FMTTYPE=text/html:<div border:="" class="wpb_text_column wpb_content_element " color:="" font-size:="" margin:="" open="" outline:="" padding:="" style="box-sizing: border-box\; vertical-align: baseline\; font-family: ">\n<div class="wpb_wrapper" style="box-sizing: border-box\; vertical-align: baseline\; font-family: inherit\; font-weight: inherit\; font-style: inherit\; outline: 0px\; padding: 0px\; margin: 0px\; border: 0px\;">\n<h1 style="box-sizing: border-box\; vertical-align: baseline\; font-weight: 600\; font-style: inherit\; font-size: 30px\; outline: 0px\; padding: 0px\; margin: 0px\; border: 0px\; line-height: 42px\; color: rgb(68\, 68\, 68)\; letter-spacing: -0.5px\; -webkit-font-smoothing: antialiased\; text-align: center\;"><span style="font-size:16px\;"><span style="color:#000000\;"><span style="font-family:arial\;"><strong><span style="box-sizing: border-box\; vertical-align: baseline\; font-style: inherit\; outline: 0px\; padding: 0px\; margin: 0px\; border: 0px\;">Join us at Surrey&rsquo\;s Emerging Innovation Ecosystem for #BCTECHSummit&rsquo\;s Tech@NIGHT Event featuring LED Robots &amp\; VR Artists</span></strong></span></span></span></h1>\n</div>\n</div>\n\n<div border:="" class="divider" color:="" font-size:="" height:="" margin:="" open="" outline:="" padding:="" style="box-sizing: border-box\; vertical-align: baseline\; font-family: "><br />\n<span style="font-size:14px\;"><span style="color:#000000\;"><span style="font-family:arial\;"><strong><span style="letter-spacing:-.4pt\;border:none windowtext 1.0pt\;padding:0in\;">Come to&nbsp\;celebrate BC&rsquo\;s booming tech scene!</span></strong></span></span><br />\n&nbsp\;<br />\n<span style="letter-spacing:-.4pt\;"><span style="color:black\;"><span style="font-family:arial\;">The&nbsp\;<a href="https://healthandtechnologydistrict.us14.list-manage.com/track/click?u=265c7a9e8c982df9c2562f8a6&amp\;id=7856c5c2d0&amp\;e=25cc80096f"><span style="border:none windowtext 1.0pt\;padding:0in\;"><span style="color:black\;">Health and Technology District</span></span></a>&nbsp\;in Surrey has partnered with&nbsp\;<a href="https://www.bctechsummit.ca/"><span style="border:none windowtext 1.0pt\;padding:0in\;"><span style="color:black\;">#BCTECHSummit</span></span></a>&nbsp\;to host the most innovative Tech@NIGHT Event of&nbsp\;2019. Hang out with entrepreneurs\, innovators and techies from BC&rsquo\;s extended innovation ecosystem in this extraordinary mixed reality experience featuring robots\, VR artists\, entertainment and more.</span></span></span></span><br />\n<br />\nRegister <a href="https://www.eventbrite.ca/e/technight-tickets-55370237872">here</a>.&nbsp\;</div>\n\n<div 0px="" border:="" class="wpb_row vc_row-fluid vc_row standard_section   " color:="" data-bg-mobile-hidden="" data-midnight="" font-size:="" id="fws_5c80520c2fb18" margin:="" open="" outline:="" padding:="" position:="" style="box-sizing: border-box\; vertical-align: baseline\; font-family: ">\n<div class="col span_12  " style="box-sizing: border-box\; vertical-align: baseline\; font-family: inherit\; font-weight: inherit\; font-style: inherit\; outline: 0px\; padding: 0px\; margin-top: 0px\; margin-right: 0px\; margin-left: 0px\; border: 0px\; position: relative\; z-index: 10\; float: left\; width: 1288px\; margin-bottom: 0px !important\;">\n<div class="vc_col-sm-8 wpb_column column_container col no-extra-padding instance-6" data-animation="" data-bg-color="" data-bg-opacity="1" data-delay="0" data-has-bg-color="false" data-hover-bg="" data-hover-bg-opacity="1" data-padding-pos="all" style="box-sizing: border-box\; vertical-align: baseline\; font-family: inherit\; font-weight: inherit\; font-style: inherit\; outline: 0px\; padding: 0px\; margin: 0px 0px 0px 27.0469px\; border: 0px\; position: relative\; z-index: 10\; float: left\; width: 849.531px\; background-position: center center\; min-height: 1px\;">\n<div class="wpb_wrapper" style="box-sizing: border-box\; vertical-align: baseline\; font-family: inherit\; font-weight: inherit\; font-style: inherit\; outline: 0px\; padding: 0px\; margin: 0px\; border: 0px\;">\n<div class="wpb_text_column wpb_content_element " style="box-sizing: border-box\; vertical-align: baseline\; font-family: inherit\; font-weight: inherit\; font-style: inherit\; outline: 0px\; padding: 0px\; margin: 0px\; border: 0px\;">\n<div class="wpb_wrapper" style="box-sizing: border-box\; vertical-align: baseline\; font-family: inherit\; font-weight: inherit\; font-style: inherit\; outline: 0px\; padding: 0px\; margin: 0px\; border: 0px\;">\n<h2 style="box-sizing: border-box\; vertical-align: baseline\; font-weight: 600\; font-style: inherit\; font-size: 22px\; outline: 0px\; padding: 0px\; margin: 0px\; border: 0px\; line-height: 36px\; color: rgb(68\, 68\, 68)\; letter-spacing: -0.5px\; -webkit-font-smoothing: antialiased\; text-align: center\;">&nbsp\;</h2>\n</div>\n</div>\n</div>\n</div>\n</div>\n</div>\n
LOCATION:Location: The Health and Technology District (City Centre 2) Address: 9639 137A Street - Main Floor
UID:e.749.10258
SEQUENCE:3
DTSTAMP:20260422T071206Z
URL:https://business.businessinsurrey.com/events/details/march-12-2019-bctechsummit-s-tech-night-at-health-and-technology-district-03-12-2019-10258
END:VEVENT

END:VCALENDAR
