BEGIN:VCALENDAR
VERSION:2.0
PRODID:-//ChamberMaster//Event Calendar 2.0//EN
METHOD:PUBLISH
X-PUBLISHED-TTL:P3D
REFRESH-INTERVAL:P3D
CALSCALE:GREGORIAN
BEGIN:VEVENT
DTSTART:20150312T184500Z
DTEND:20150312T203000Z
X-MICROSOFT-CDO-ALLDAYEVENT:FALSE
SUMMARY:March 12\, 2015 - Surrey Transportation Town Hall Forum
DESCRIPTION:SURREY TRANSPORTATION TOWN HALL FORUMS\n\n\n\nDowntown Surrey\n\n\n\nOrganized by the the Downtown Surrey BIA\n\nVOTING YES FOR TRANSPORTATION IMPROVEMENTS IN SURREY TO SUPPORT SURREY'S ECONOMY
X-ALT-DESC;FMTTYPE=text/html:SURREY TRANSPORTATION TOWN HALL FORUMS<br />\n<br />\nDowntown Surrey<br />\n<br />\nOrganized by the the Downtown Surrey BIA<br />\nVOTING YES FOR TRANSPORTATION IMPROVEMENTS IN SURREY TO SUPPORT SURREY&rsquo\;S ECONOMY
LOCATION:Neptune Restaurant 10153 King George Blvd Surrey\, BC
UID:e.749.3321
SEQUENCE:3
DTSTAMP:20260423T093113Z
URL:https://business.businessinsurrey.com/events/details/march-12-2015-surrey-transportation-town-hall-forum-03-12-2015-3321
END:VEVENT

END:VCALENDAR
