BEGIN:VCALENDAR
VERSION:2.0
PRODID:-//ChamberMaster//Event Calendar 2.0//EN
METHOD:PUBLISH
X-PUBLISHED-TTL:P3D
REFRESH-INTERVAL:P3D
CALSCALE:GREGORIAN
BEGIN:VEVENT
DTSTART:20160311T153000Z
DTEND:20160311T173000Z
X-MICROSOFT-CDO-ALLDAYEVENT:FALSE
SUMMARY:March 11\, 2016 - The Economics of Industrial Lands
DESCRIPTION:In the 1970's\, the provincial government speculated protecting industrial lands similar to Agricultural Land Reserve (ALR). As trade enabling industrial land disappears in favour of residential development\, how can we protect the remaining acreage for future economic growth of the city and the region?
X-ALT-DESC;FMTTYPE=text/html:In the 1970&#39\;s\, the provincial government speculated protecting industrial lands similar to Agricultural Land Reserve (ALR). As trade enabling industrial land disappears in favour of residential development\, how can we protect the remaining acreage for future economic growth of the city and the region?
LOCATION:Eaglequest Golf Course 7778 152 Street Surrey\, BC
UID:e.749.4793
SEQUENCE:3
DTSTAMP:20260424T053150Z
URL:https://business.businessinsurrey.com/events/details/march-11-2016-the-economics-of-industrial-lands-03-11-2016-4793
END:VEVENT

END:VCALENDAR
