BEGIN:VCALENDAR
VERSION:2.0
PRODID:-//ChamberMaster//Event Calendar 2.0//EN
METHOD:PUBLISH
X-PUBLISHED-TTL:P3D
REFRESH-INTERVAL:P3D
CALSCALE:GREGORIAN
BEGIN:VEVENT
DTSTART:20150311T010000Z
DTEND:20150311T030000Z
X-MICROSOFT-CDO-ALLDAYEVENT:FALSE
SUMMARY:March 10\, 2015 - Automotive Industry Reception
DESCRIPTION:Network with the automotive industry.\n\nLearn about this industry's economic impact to Surrey and BC.\n\nLearn about new trends & issues in the industry.\n\n \n\nThe Canadian automotive industry produces light duty vehicles   cars\, vans\, pickup trucks\, heavy duty vehicles\, trucks\, transit buses\, school buses\, military vehicles\; and a wide range of parts\, components\, and systems used in vehicles of this nature. To complement their manufacturing activities\, the industry boasts a well-developed vehicle dealer network\, plus an aftermarket organization\, which has grown into a world-class distribution system and service provider.\n\n\n\nThe Canadian automotive industry is: Integrated into NAFTA (i.e. Canada\, U.S.\, Mexico)\, Globally competitive\, the eighth largest in the world with positive trade balance and a major contributor to the Canadian economy\, employing over half a million people.\n\n\n\nJoin us at this networking reception\, in partnership with SW Media Group.
X-ALT-DESC;FMTTYPE=text/html:<span style="font-size:12px\;"><strong><span style="font-family: arial\;">Network with the automotive industry.<br />\nLearn about this industry&rsquo\;s economic impact to Surrey and BC.<br />\nLearn about new trends &amp\; issues in the industry.</span></strong><br />\n&nbsp\;<br />\n<span style="font-family: arial\;">The Canadian automotive industry produces light duty vehicles&nbsp\;&mdash\; cars\, vans\, pickup trucks\, heavy duty vehicles\, trucks\, transit buses\, school buses\, military vehicles\; and a wide range of parts\, components\, and systems used in vehicles of this nature. To complement their manufacturing activities\, the industry boasts a well-developed vehicle dealer network\, plus an aftermarket organization\, which has grown into a world-class distribution system and service provider.</span><br />\n<br />\n<span style="font-family: arial\;">The Canadian automotive industry is:&nbsp\;Integrated into NAFTA (i.e. Canada\, U.S.\, Mexico)\, Globally competitive\, the eighth largest in the world with positive trade balance and a major contributor to the Canadian economy\, employing over half a million people</span></span>.<br />\n<br />\nJoin us at this networking reception\, in partnership with SW Media Group.
LOCATION:Surrey Board of Trade Office #101-14439 104 Avenue Surrey\, BC
UID:e.749.3297
SEQUENCE:3
DTSTAMP:20260423T093214Z
URL:https://business.businessinsurrey.com/events/details/march-10-2015-automotive-industry-reception-03-10-2015-3297
END:VEVENT

END:VCALENDAR
