BEGIN:VCALENDAR
VERSION:2.0
PRODID:-//ChamberMaster//Event Calendar 2.0//EN
METHOD:PUBLISH
X-PUBLISHED-TTL:P3D
REFRESH-INTERVAL:P3D
CALSCALE:GREGORIAN
BEGIN:VEVENT
DTSTART:20150430T190000Z
DTEND:20150503T190000Z
X-MICROSOFT-CDO-ALLDAYEVENT:FALSE
SUMMARY:LIFE Designs Renewal Retreat
DESCRIPTION:Dragonfly Consulting Marketing and Event Planning is coordinating the LIFE Designs Renewal Retreat for women taking place on the beautiful Quadra Island at the Gowlland Harbour Resort. This 3 day\, 3 night retreat is for women who are looking for the opportunity to relax\, rejuvenate\, refocus and re-connect. There will be group fitness classes\, personal empowerment workshops\, nature activities\, and spa services. Meals\, snacks\, classes\, prizes\, gift bags and transportation from Nanaimo are included in the price.
X-ALT-DESC;FMTTYPE=text/html:Dragonfly Consulting Marketing and Event Planning is coordinating the LIFE Designs Renewal Retreat for women taking place on the beautiful Quadra Island at the Gowlland Harbour Resort. This 3 day\, 3 night retreat is for women who are looking for the opportunity to relax\, rejuvenate\, refocus and re-connect. There will be group fitness classes\, personal empowerment workshops\, nature activities\, and spa services. Meals\, snacks\, classes\, prizes\, gift bags and transportation from Nanaimo are included in the price.
LOCATION:Gowlland Harbour Resort\, Quadra Island
UID:e.749.3338
SEQUENCE:3
DTSTAMP:20260423T104750Z
URL:https://business.businessinsurrey.com/events/details/life-designs-renewal-retreat-04-30-2015-3338
END:VEVENT

END:VCALENDAR
