BEGIN:VCALENDAR
VERSION:2.0
PRODID:-//ChamberMaster//Event Calendar 2.0//EN
METHOD:PUBLISH
X-PUBLISHED-TTL:P3D
REFRESH-INTERVAL:P3D
CALSCALE:GREGORIAN
BEGIN:VEVENT
DTSTART:20150508T150000Z
DTEND:20150508T230000Z
X-MICROSOFT-CDO-ALLDAYEVENT:FALSE
SUMMARY:Leadercast Vancouver 2015
DESCRIPTION:Leadercast is a brand that builds Leaders Worth Following. We cut through the noise and bring realness to the leadership development space by: - Producing epic events that create a shift in leadership practices. - Developing elegant content that drives action in the lives of users. - Constantly innovating to ensure freshness in our approach. On May 8\, 2015\, live via simulcast\, Leadercast Vancouver will facilitate the largest convergence of leaders in the world by creating an epic leadership experience. World class speakers at this one-day leadership event include: Malala Yousafzai\, Ed Catmull\, Seth Godin\, Rudy Giuliani\, CMDR Rorke Denver\, Bill McDermott\, Andy Stanley\, and Aja Brown. This year's theme\, The Brave Ones\, focuses on what it means to lead in such a way that create bold cultures\, builds faithful employees\, and produces high achievement.
X-ALT-DESC;FMTTYPE=text/html:Leadercast is a brand that builds Leaders Worth Following. We cut through the noise and bring realness to the leadership development space by: - Producing epic events that create a shift in leadership practices. - Developing elegant content that drives action in the lives of users. - Constantly innovating to ensure freshness in our approach. On May 8\, 2015\, live via simulcast\, Leadercast Vancouver will facilitate the largest convergence of leaders in the world by creating an epic leadership experience. World class speakers at this one-day leadership event include: Malala Yousafzai\, Ed Catmull\, Seth Godin\, Rudy Giuliani\, CMDR Rorke Denver\, Bill McDermott\, Andy Stanley\, and Aja Brown. This year&#39\;s theme\, The Brave Ones\, focuses on what it means to lead in such a way that create bold cultures\, builds faithful employees\, and produces high achievement.
LOCATION:Scotiabank Theatre Vancouver 900 Burrard Street Vancouver\, BC V6Z 3G5
UID:e.749.3340
SEQUENCE:3
DTSTAMP:20260423T135814Z
URL:https://business.businessinsurrey.com/events/details/leadercast-vancouver-2015-05-08-2015-3340
END:VEVENT

END:VCALENDAR
