BEGIN:VCALENDAR
VERSION:2.0
PRODID:-//ChamberMaster//Event Calendar 2.0//EN
METHOD:PUBLISH
X-PUBLISHED-TTL:P3D
REFRESH-INTERVAL:P3D
CALSCALE:GREGORIAN
BEGIN:VEVENT
DTSTART:20160420T143000Z
DTEND:20160420T163000Z
X-MICROSOFT-CDO-ALLDAYEVENT:FALSE
SUMMARY:Latin Canadian Professional Network - LCPN Business Breakfast
DESCRIPTION:Join Latincouver's Latin-Canadian Professional Network in another Business Breakfast. This is a great opportunity to connect with Latin and Canadian Business professionals like you. Reach new markets and create new connections. Don't forget to bring your Business Cards!
X-ALT-DESC;FMTTYPE=text/html:Join Latincouver&#39\;s Latin-Canadian Professional Network in another Business Breakfast. This is a great opportunity to connect with Latin and Canadian Business professionals like you. Reach new markets and create new connections. Don&#39\;t forget to bring your Business Cards!
LOCATION:Cavo Bar - 911 Granville St\, Vancouver\, BC V6Z 1L3
UID:e.749.4921
SEQUENCE:3
DTSTAMP:20260424T052909Z
URL:https://business.businessinsurrey.com/events/details/latin-canadian-professional-network-lcpn-business-breakfast-04-20-2016-4921
END:VEVENT

END:VCALENDAR
