BEGIN:VCALENDAR
VERSION:2.0
PRODID:-//ChamberMaster//Event Calendar 2.0//EN
METHOD:PUBLISH
X-PUBLISHED-TTL:P3D
REFRESH-INTERVAL:P3D
CALSCALE:GREGORIAN
BEGIN:VEVENT
DTSTART:20160622T143000Z
DTEND:20160622T163000Z
X-MICROSOFT-CDO-ALLDAYEVENT:FALSE
SUMMARY:Latin Canadian Professional Network – Business Breakfast
DESCRIPTION:Latincouver presents LCPN networking Breakfast on June 22nd at Brain Station (1110 Hamilton St #410\, Vancouver) No entrepreneur survives over the long term without reinventing himself. Sooner or later\, all businesses\, even the most successful\, run out of room to grow. Faced with different realities\, we are enforced to reinvent ourselves regularly. If you want to stay in business for a long term\, or if you are considering moving or starting your company abroad\, our guest\, Sandra Sallovitz\, from Destinos Enterprises\, will help you understand how reinventing yourself to do what you love can help you prepare your reinvent strategy.
X-ALT-DESC;FMTTYPE=text/html:Latincouver presents LCPN networking Breakfast on June 22nd at Brain Station (1110 Hamilton St #410\, Vancouver) No entrepreneur survives over the long term without reinventing himself. Sooner or later\, all businesses\, even the most successful\, run out of room to grow. Faced with different realities\, we are enforced to reinvent ourselves regularly. If you want to stay in business for a long term\, or if you are considering moving or starting your company abroad\, our guest\, Sandra Sallovitz\, from Destinos Enterprises\, will help you understand how reinventing yourself to do what you love can help you prepare your reinvent strategy.
LOCATION:BrainStation 410-1110 Hamilton Street Vancouver BC V6B 2S2
UID:e.749.4958
SEQUENCE:3
DTSTAMP:20260424T101116Z
URL:https://business.businessinsurrey.com/events/details/latin-canadian-professional-network-business-breakfast-06-22-2016-4958
END:VEVENT

END:VCALENDAR
