BEGIN:VCALENDAR
VERSION:2.0
PRODID:-//ChamberMaster//Event Calendar 2.0//EN
METHOD:PUBLISH
X-PUBLISHED-TTL:P3D
REFRESH-INTERVAL:P3D
CALSCALE:GREGORIAN
BEGIN:VEVENT
DTSTART:20151117T153000Z
DTEND:20151117T173000Z
X-MICROSOFT-CDO-ALLDAYEVENT:FALSE
SUMMARY:KPMG Private Companies Speaking Series - Langley
DESCRIPTION:Year End Tax Planning and Accounting Update In an ever-changing business environment\, KPMG Enterprise is committed to helping you keep current on the significant accounting\, auditing and tax changes impacting private companies in Canada. Our experienced team will present key tax update topics and methods that can help you better plan and potentially help reduce corporate and personal taxation. Some of the topics include: ? Recent income and commodity tax changes ? Year-end tax planning ideas to help reduce or defer taxes ? Recent accounting issues
X-ALT-DESC;FMTTYPE=text/html:Year End Tax Planning and Accounting Update In an ever-changing business environment\, KPMG Enterprise is committed to helping you keep current on the significant accounting\, auditing and tax changes impacting private companies in Canada. Our experienced team will present key tax update topics and methods that can help you better plan and potentially help reduce corporate and personal taxation. Some of the topics include: ? Recent income and commodity tax changes ? Year-end tax planning ideas to help reduce or defer taxes ? Recent accounting issues
LOCATION:The Coast Hotel & Convention Centre 20393 Fraser Highway Langley\, BC
UID:e.749.3699
SEQUENCE:3
DTSTAMP:20260423T214855Z
URL:https://business.businessinsurrey.com/events/details/kpmg-private-companies-speaking-series-langley-11-17-2015-3699
END:VEVENT

END:VCALENDAR
