BEGIN:VCALENDAR
VERSION:2.0
PRODID:-//ChamberMaster//Event Calendar 2.0//EN
METHOD:PUBLISH
X-PUBLISHED-TTL:P3D
REFRESH-INTERVAL:P3D
CALSCALE:GREGORIAN
BEGIN:VEVENT
DTSTART:20150609T143000Z
DTEND:20150609T170000Z
X-MICROSOFT-CDO-ALLDAYEVENT:FALSE
SUMMARY:June 9\, 2015 - Health Care and Business Dialogue - Mental Health
DESCRIPTION:You are invited!\n\nLeadership Surrey Dialogue Series\n\nHealth Care and Business Dialogues\n\n\n\nThe Social Policy Team members expressed concern regarding mental health care\, especially for youth\, and the development of support for employees experiencing challenges in the workplace. The first is to ensure young people have the best opportunity to develop into productive community members. The second is to mitigate the financial impact on employers due to lost production time\, insurance coverage costs\, and more. The dialogue will be divided into two sessions to give time for both perspectives.
X-ALT-DESC;FMTTYPE=text/html:<span style="font-family:arial\;">You are invited!<br />\n<span style="font-size: 16px\;"><strong>Leadership Surrey Dialogue Series</strong></span><br />\n<span style="font-size: 14px\;"><em>Health Care and Business Dialogues</em></span><br />\n<br />\n<span style="font-size:12px\;">The Social Policy Team members expressed concern regarding mental health care\, especially for youth\, and the development of support for employees experiencing challenges in the workplace. The first is to ensure young people have the best opportunity to develop into productive community members. The second is to mitigate the financial impact on employers due to lost production time\, insurance coverage costs\, and more. The dialogue will be divided into two sessions to give time for both perspectives.</span></span>
LOCATION:Eaglequest Golf Course 7778 152 Street Surrey\, BC
UID:e.749.3571
SEQUENCE:3
DTSTAMP:20260423T140232Z
URL:https://business.businessinsurrey.com/events/details/june-9-2015-health-care-and-business-dialogue-mental-health-06-09-2015-3571
END:VEVENT

END:VCALENDAR
