BEGIN:VCALENDAR
VERSION:2.0
PRODID:-//ChamberMaster//Event Calendar 2.0//EN
METHOD:PUBLISH
X-PUBLISHED-TTL:P3D
REFRESH-INTERVAL:P3D
CALSCALE:GREGORIAN
BEGIN:VEVENT
DTSTART:20160607T183000Z
DTEND:20160607T203000Z
X-MICROSOFT-CDO-ALLDAYEVENT:FALSE
SUMMARY:June 7\, 2016 - A Conversation with TransLink CEO Kevin Desmond
DESCRIPTION:Join us for an interactive sofa chat with the new CEO of TransLink\, Kevin Desmond. Attendees will get a chance to know the leader of Metro Vancouver's transportation network.\n\nLearn about:\n\n	His Vision for South Fraser Transportation Needs\n	Opportunities & Challenges for TransLink\n	Experience and Transportation Knowledge - what makes sense for Metro Vancouver\n	Road Pricing Perspective
X-ALT-DESC;FMTTYPE=text/html:Join us for an interactive sofa chat with the new CEO of TransLink\, Kevin Desmond. Attendees will get a chance to know the leader of Metro Vancouver&rsquo\;s transportation network.<br />\nLearn about:\n<ul>\n	<li>His Vision for South Fraser Transportation Needs</li>\n	<li>Opportunities &amp\; Challenges for TransLink</li>\n	<li>Experience and Transportation Knowledge - what makes sense for Metro Vancouver</li>\n	<li>Road Pricing Perspective</li>\n</ul>\n
LOCATION:Sheraton Vancouver Guildford Hotel (15269 104 Avenue\, Surrey)
UID:e.749.4922
SEQUENCE:3
DTSTAMP:20260424T090155Z
URL:https://business.businessinsurrey.com/events/details/june-7-2016-a-conversation-with-translink-ceo-kevin-desmond-06-07-2016-4922
END:VEVENT

END:VCALENDAR
