BEGIN:VCALENDAR
VERSION:2.0
PRODID:-//ChamberMaster//Event Calendar 2.0//EN
METHOD:PUBLISH
X-PUBLISHED-TTL:P3D
REFRESH-INTERVAL:P3D
CALSCALE:GREGORIAN
BEGIN:VEVENT
DTSTART;VALUE=DATE:20120606
DTEND;VALUE=DATE:20120607
TRANSP:TRANSPARENT
X-MICROSOFT-CDO-ALLDAYEVENT:TRUE
SUMMARY:June 6\, 2012 - Business to Business at MacKay LLP
DESCRIPTION:Business to Business Networking Reception at MacKay LLP
X-ALT-DESC;FMTTYPE=text/html:Business to Business Networking Reception at MacKay LLP
LOCATION:119-7565 132 Street\, Surrey
UID:e.749.1933
SEQUENCE:3
DTSTAMP:20260421T052854Z
URL:https://business.businessinsurrey.com/events/details/june-6-2012-business-to-business-at-mackay-llp-06-06-2012-1933
END:VEVENT

END:VCALENDAR
