BEGIN:VCALENDAR
VERSION:2.0
PRODID:-//ChamberMaster//Event Calendar 2.0//EN
METHOD:PUBLISH
X-PUBLISHED-TTL:P3D
REFRESH-INTERVAL:P3D
CALSCALE:GREGORIAN
BEGIN:VEVENT
DTSTART;VALUE=DATE:20090604
DTEND;VALUE=DATE:20090605
TRANSP:TRANSPARENT
X-MICROSOFT-CDO-ALLDAYEVENT:TRUE
SUMMARY:June 4\, '09 - Breakfast in the City
DESCRIPTION:
X-ALT-DESC;FMTTYPE=text/html:
LOCATION:
UID:e.749.1506
SEQUENCE:3
DTSTAMP:20260423T140021Z
URL:https://business.businessinsurrey.com/events/details/june-4-09-breakfast-in-the-city-06-04-2009-1506
END:VEVENT

END:VCALENDAR
