BEGIN:VCALENDAR
VERSION:2.0
PRODID:-//ChamberMaster//Event Calendar 2.0//EN
METHOD:PUBLISH
X-PUBLISHED-TTL:P3D
REFRESH-INTERVAL:P3D
CALSCALE:GREGORIAN
BEGIN:VEVENT
DTSTART;VALUE=DATE:20100603
DTEND;VALUE=DATE:20100604
TRANSP:TRANSPARENT
X-MICROSOFT-CDO-ALLDAYEVENT:TRUE
SUMMARY:June 3\, 2010 - Environment Awards Lunch
DESCRIPTION:
X-ALT-DESC;FMTTYPE=text/html:
LOCATION:
UID:e.749.1583
SEQUENCE:3
DTSTAMP:20260422T192510Z
URL:https://business.businessinsurrey.com/events/details/june-3-2010-environment-awards-lunch-06-03-2010-1583
END:VEVENT

END:VCALENDAR
