BEGIN:VCALENDAR
VERSION:2.0
PRODID:-//ChamberMaster//Event Calendar 2.0//EN
METHOD:PUBLISH
X-PUBLISHED-TTL:P3D
REFRESH-INTERVAL:P3D
CALSCALE:GREGORIAN
BEGIN:VEVENT
DTSTART:20120627T190000Z
DTEND:20120627T220000Z
X-MICROSOFT-CDO-ALLDAYEVENT:FALSE
SUMMARY:June 27\, '12 - Retirement Lunch for Assistant Commissioner Fraser MacRae
DESCRIPTION:This event is now sold out.\n\n\n\nCelebrate the retirement of Assistant Commissioner Fraser MacRae.\n\n\n\nAfter 35 years of dedicated service to the people of Canada\, the RCMP and the City of Surrey\, our "Top Cop" is retiring.
X-ALT-DESC;FMTTYPE=text/html:<span style="color:#ff0000\;"><strong>This event is now sold out.</strong></span><br />\n<br />\nCelebrate the retirement of Assistant Commissioner Fraser MacRae.<br />\n<br />\nAfter 35 years of dedicated service to the people of Canada\, the RCMP and the City of Surrey\, our &quot\;Top Cop&quot\; is retiring.
LOCATION:Sheraton Vancouver Guildford Hotel 15269 104 Avenue\, Surrey
UID:e.749.2053
SEQUENCE:3
DTSTAMP:20260421T051451Z
URL:https://business.businessinsurrey.com/events/details/june-27-12-retirement-lunch-for-assistant-commissioner-fraser-macrae-06-27-2012-2053
END:VEVENT

END:VCALENDAR
