BEGIN:VCALENDAR
VERSION:2.0
PRODID:-//ChamberMaster//Event Calendar 2.0//EN
METHOD:PUBLISH
X-PUBLISHED-TTL:P3D
REFRESH-INTERVAL:P3D
CALSCALE:GREGORIAN
BEGIN:VEVENT
DTSTART:20120626T150000Z
DTEND:20120626T163000Z
X-MICROSOFT-CDO-ALLDAYEVENT:FALSE
SUMMARY:June 26\, 2012 - Breakfast with Immigration Minister Jason Kenney
DESCRIPTION:Breakfast with Immigration Minister Jason Kenney.   \n\n\n\nTitle:  Towards a targeted\, fast and efficient immigration system focusing on Jobs\, Growth and Prosperity\n\n\n\nSPEECH OUTLINE\n\nThe Government of Canada is focused on promoting economic growth and long-term prosperity. As outlined in the Economic Action Plan 2012\, transformational change is underway that will make our immigration system targeted\, fast and efficient. As we move towards a more economy-focused immigration system\, new initiatives will be introduced to make it even more nimble and responsive to labour market needs. Minister Kenney will discuss how we can ensure Canada 's immigration system contributes to economic health and our country's international competitiveness.\n\n\n\nBIO\n\nJason Kenney was appointed Minister of Citizenship\, Immigration and Multiculturalism on October 30\, 2008. He was reappointed to the portfolio on May 18\, 2011 and given the added responsibility of Chair of the Cabinet Committee on Operations. The committee provides day-to-day coordination of the government's agenda\, including issues management\, legislation and house planning\, and communications. He was first elected to the House of Commons in 1997 and has been re-elected five times. He was appointed Parliamentary Secretary to the Prime Minister in 2006\, and Secretary of State (Multiculturalism and Canadian Identity) in 2007. Mr. Kenney was born in Ontario and raised in Saskatchewan\, where he graduated from Notre Dame College. He did undergraduate studies in philosophy at the St. Ignatius Institute of the University of San Francisco. Mr. Kenney is a former Chair of the House of Commons Subcommittee on International Human Rights. He served in a variety of positions in Opposition\, including Finance Critic and Deputy House Leader. Prior to seeking election\, Mr. Kenney served as President and Chief Executive Officer of the Canadian Taxpayers' Federation.
X-ALT-DESC;FMTTYPE=text/html:Breakfast with Immigration Minister Jason Kenney.&nbsp\;&nbsp\;&nbsp\;<br />\n<br />\n<b>Title: &nbsp\;</b>Towards a targeted\, fast and efficient immigration system focusing on Jobs\, Growth and Prosperity<br />\n<br />\n<b>SPEECH OUTLINE</b><br />\nThe Government of Canada is focused on promoting economic growth and long-term prosperity. As outlined in the Economic Action Plan 2012\, transformational change is underway that will make our immigration system targeted\, fast and efficient. As we move towards a more economy-focused immigration system\, new initiatives will be introduced to make it even more nimble and responsive to labour market needs. Minister Kenney will discuss how we can ensure Canada &#39\;s immigration system contributes to economic health and our country&#39\;s international competitiveness.<br />\n<br />\n<b>BIO</b><br />\nJason Kenney was appointed Minister of Citizenship\, Immigration and Multiculturalism on October 30\, 2008. He was reappointed to the portfolio on May 18\, 2011 and given the added responsibility of Chair of the Cabinet Committee on Operations. The committee provides day-to-day coordination of the government&#39\;s agenda\, including issues management\, legislation and house planning\, and communications. He was first elected to the House of Commons in 1997 and has been re-elected five times. He was appointed Parliamentary Secretary to the Prime Minister in 2006\, and Secretary of State (Multiculturalism and Canadian Identity) in 2007. Mr. Kenney was born in Ontario and raised in Saskatchewan\, where he graduated from Notre Dame College. He did undergraduate studies in philosophy at the St. Ignatius Institute of the University of San Francisco. Mr. Kenney is a former Chair of the House of Commons Subcommittee on International Human Rights. He served in a variety of positions in Opposition\, including Finance Critic and Deputy House Leader. Prior to seeking election\, Mr. Kenney served as President and Chief Executive Officer of the Canadian Taxpayers&#39\; Federation.
LOCATION:Eaglequest Golf Course 7778 152 Street\, Surrey
UID:e.749.2068
SEQUENCE:3
DTSTAMP:20260421T052951Z
URL:https://business.businessinsurrey.com/events/details/june-26-2012-breakfast-with-immigration-minister-jason-kenney-06-26-2012-2068
END:VEVENT

END:VCALENDAR
