BEGIN:VCALENDAR
VERSION:2.0
PRODID:-//ChamberMaster//Event Calendar 2.0//EN
METHOD:PUBLISH
X-PUBLISHED-TTL:P3D
REFRESH-INTERVAL:P3D
CALSCALE:GREGORIAN
BEGIN:VEVENT
DTSTART;VALUE=DATE:20090624
DTEND;VALUE=DATE:20090625
TRANSP:TRANSPARENT
X-MICROSOFT-CDO-ALLDAYEVENT:TRUE
SUMMARY:June 24 '09 AGM-Mentorship Event
DESCRIPTION:
X-ALT-DESC;FMTTYPE=text/html:
LOCATION:
UID:e.749.1515
SEQUENCE:3
DTSTAMP:20260423T153254Z
URL:https://business.businessinsurrey.com/events/details/june-24-09-agm-mentorship-event-06-24-2009-1515
END:VEVENT

END:VCALENDAR
