BEGIN:VCALENDAR
VERSION:2.0
PRODID:-//ChamberMaster//Event Calendar 2.0//EN
METHOD:PUBLISH
X-PUBLISHED-TTL:P3D
REFRESH-INTERVAL:P3D
CALSCALE:GREGORIAN
BEGIN:VEVENT
DTSTART:20150624T000000Z
DTEND:20150624T020000Z
X-MICROSOFT-CDO-ALLDAYEVENT:FALSE
SUMMARY:June 23\, 2015 - Business to Business Reception @ KPU
DESCRIPTION:Business to Business Reception at Kwantlen Polytechnic University
X-ALT-DESC;FMTTYPE=text/html:Business to Business Reception at Kwantlen Polytechnic University
LOCATION:12666 72 Avenue Surrey\, BC V3W 2M8 (604) 599-2127
UID:e.749.2756
SEQUENCE:3
DTSTAMP:20260423T153427Z
URL:https://business.businessinsurrey.com/events/details/june-23-2015-business-to-business-reception-kpu-06-23-2015-2756
END:VEVENT

END:VCALENDAR
