BEGIN:VCALENDAR
VERSION:2.0
PRODID:-//ChamberMaster//Event Calendar 2.0//EN
METHOD:PUBLISH
X-PUBLISHED-TTL:P3D
REFRESH-INTERVAL:P3D
CALSCALE:GREGORIAN
BEGIN:VEVENT
DTSTART;VALUE=DATE:20090623
DTEND;VALUE=DATE:20090624
TRANSP:TRANSPARENT
X-MICROSOFT-CDO-ALLDAYEVENT:TRUE
SUMMARY:June 23\, '09 - Future Member Orientation
DESCRIPTION:
X-ALT-DESC;FMTTYPE=text/html:
LOCATION:
UID:e.749.1528
SEQUENCE:3
DTSTAMP:20260423T141604Z
URL:https://business.businessinsurrey.com/events/details/june-23-09-future-member-orientation-06-23-2009-1528
END:VEVENT

END:VCALENDAR
