BEGIN:VCALENDAR
VERSION:2.0
PRODID:-//ChamberMaster//Event Calendar 2.0//EN
METHOD:PUBLISH
X-PUBLISHED-TTL:P3D
REFRESH-INTERVAL:P3D
CALSCALE:GREGORIAN
BEGIN:VEVENT
DTSTART:20120622T003000Z
DTEND:20120622T043000Z
X-MICROSOFT-CDO-ALLDAYEVENT:FALSE
SUMMARY:June 21\, 2012 - AGM
DESCRIPTION:This event is sold out. Thank you for your interest in this event.\n\n\n\nThe program:\n\n1.     48th Annual General Meeting (hear about the government advocacy and the financial report)\n\n\n\n2.     Meet your New President to be inducted: Mr. Jim Mihaly\, Publisher\, The Leader Newspaper.\n\n\n\n3.     Meet the incoming new directors to be inducted.\n\n\n\n4.     Guest Speakers:\n\n\n\nJim Lightbody\, Vice President of Casino and Community Gaming\n\nTopic: The Development of the Gaming Market in Surrey\n\n\n\nFrancois Boucher\, Superintendent\, CN Rail\, BC South \n\nTopic: Delivering the Goods \n\nIncreasing demand for Canadian natural resources worldwide have created new and exciting opportunities for companies focused on developing\, processing and transporting products safely and efficiently from origin to end point. British Columbia is at the heart of this opportunity.\n\n \n\nCN is focused on the future\, and on building and investing in British Columbia to meet the growing needs of its customers. As the growth and development of the Asia Pacific region continues\, it has also driven increased demand for rail and transloading services.\n\n \n\nCN Superintendent Francois Boucher will provide insight on what that growth means for operations in Surrey\, the impact for BC\, and how CN will continue to work in cooperation with customers and municipal stakeholders to help support the growth of the Pacific Gateway\, while also supporting the growth of the communities in which it operates through its innovative community investment programs\, including CN Miracle Match and the BC Summer Games.\n\n \n\n5.     Award Presentation: Child and Family Friendly Workplace Award   Sponsored by British Columbia Lottery Corporation.\n\n \n\nProgram sponsor:       KickStart Communications
X-ALT-DESC;FMTTYPE=text/html:<strong><span style="color:#ff0000\;">This event is sold out. Thank you for your interest in this event.</span></strong><br />\n<br />\n<span style="font-size:12px\;"><span style="font-family: arial\;"><b>The program:</b><br />\n<b>1.&nbsp\;&nbsp\;&nbsp\;&nbsp\; 48<sup>th</sup> Annual General Meeting </b>(hear about the government advocacy and the financial report)<br />\n<br />\n<b>2.&nbsp\;&nbsp\;&nbsp\;&nbsp\; Meet your New President </b>to be inducted: Mr. Jim Mihaly\, Publisher\, The Leader Newspaper.<br />\n<br />\n3.&nbsp\;&nbsp\;&nbsp\;&nbsp\; <b>Meet the incoming new directors </b>to be inducted.<br />\n<br />\n4.&nbsp\;&nbsp\;&nbsp\;&nbsp\; <strong>Guest Speakers:</strong><br />\n<br />\n<strong>Jim Lightbody\,&nbsp\;</strong>Vice President of Casino and Community Gaming<br />\nTopic: The Development of the Gaming Market in Surrey<br />\n<br />\n<strong>Francois Boucher\,</strong> Superintendent\, CN Rail\, BC South&nbsp\;<br />\nTopic: Delivering the Goods&nbsp\;<br />\nIncreasing demand for Canadian natural resources worldwide have created new and exciting opportunities for companies focused on developing\, processing and transporting products safely and efficiently from origin to end point. British Columbia is at the heart of this opportunity.<br />\n&nbsp\;<br />\nCN is focused on the future\, and on building and investing in British Columbia to meet the growing needs of its customers. As the growth and development of the Asia Pacific region continues\, it has also driven increased demand for rail and transloading services.<br />\n&nbsp\;<br />\nCN Superintendent Francois Boucher will provide insight on what that growth means for operations in Surrey\, the impact for BC\, and how CN will continue to work in cooperation with customers and municipal stakeholders to help support the growth of the Pacific Gateway\, while also supporting the growth of the communities in which it operates through its innovative community investment programs\, including CN Miracle Match and the BC Summer Games.<br />\n&nbsp\;<br />\n<b>5.&nbsp\;&nbsp\;&nbsp\;&nbsp\; Award Presentation: </b>Child and Family Friendly Workplace Award &ndash\; <b>Sponsored by British Columbia Lottery Corporation.</b><br />\n&nbsp\;<br />\n<b>Program sponsor:&nbsp\;&nbsp\;&nbsp\;&nbsp\;&nbsp\;&nbsp\; </b>KickStart Communications</span></span>
LOCATION:Eaglequest Coyote Creek 7778 152 Street\, Surrey
UID:e.749.2007
SEQUENCE:3
DTSTAMP:20260421T051210Z
URL:https://business.businessinsurrey.com/events/details/june-21-2012-agm-06-21-2012-2007
END:VEVENT

END:VCALENDAR
