BEGIN:VCALENDAR
VERSION:2.0
PRODID:-//ChamberMaster//Event Calendar 2.0//EN
METHOD:PUBLISH
X-PUBLISHED-TTL:P3D
REFRESH-INTERVAL:P3D
CALSCALE:GREGORIAN
BEGIN:VEVENT
DTSTART:20160602T180000Z
DTEND:20160603T013000Z
X-MICROSOFT-CDO-ALLDAYEVENT:FALSE
SUMMARY:June 2\, 2016 - Golf Tournament
DESCRIPTION:*SOLD OUT!!\n\n*Sponsorship Opportunities still available!\n\n\n\nAnnual Fun in the Sun Networking Golf Tournament!\n\n\n\nActivities at every hole\, Live Auction\, Prizes\,\n\nLunch\, Snacks and Beverages\, Prime Rib Dinner\,\n\nSilent Auction\, Entertainment\, Opportunity Draw\,\n\nRegistration gift.
X-ALT-DESC;FMTTYPE=text/html:<strong><span style="color:#FF0000\;">*SOLD OUT!!</span><br />\n*Sponsorship Opportunities still available!<br />\n<br />\nAnnual Fun in the Sun Networking Golf Tournament!</strong><br />\n<br />\nActivities at every hole\, Live Auction\, Prizes\,<br />\nLunch\, Snacks and Beverages\, Prime Rib Dinner\,<br />\nSilent Auction\, Entertainment\, Opportunity Draw\,<br />\nRegistration gift.
LOCATION:Morgan Creek Golf Course (3500 Morgan Creek Way\, Surrey BC)
UID:e.749.3732
SEQUENCE:3
DTSTAMP:20260424T083337Z
URL:https://business.businessinsurrey.com/events/details/june-2-2016-golf-tournament-06-02-2016-3732
END:VEVENT

END:VCALENDAR
