BEGIN:VCALENDAR
VERSION:2.0
PRODID:-//ChamberMaster//Event Calendar 2.0//EN
METHOD:PUBLISH
X-PUBLISHED-TTL:P3D
REFRESH-INTERVAL:P3D
CALSCALE:GREGORIAN
BEGIN:VEVENT
DTSTART:20120619T230000Z
DTEND:20120620T000000Z
X-MICROSOFT-CDO-ALLDAYEVENT:FALSE
SUMMARY:June 19\, 2012 - Future Member Orientation
DESCRIPTION:Learn more about the Surrey Board of Trade and what we can do for your business!
X-ALT-DESC;FMTTYPE=text/html:Learn more about the Surrey Board of Trade and what we can do for your business!
LOCATION:SBOT Conference Room 101-14439 104 Avenue\, Surrey
UID:e.749.2075
SEQUENCE:3
DTSTAMP:20260421T052040Z
URL:https://business.businessinsurrey.com/events/details/june-19-2012-future-member-orientation-06-19-2012-2075
END:VEVENT

END:VCALENDAR
