BEGIN:VCALENDAR
VERSION:2.0
PRODID:-//ChamberMaster//Event Calendar 2.0//EN
METHOD:PUBLISH
X-PUBLISHED-TTL:P3D
REFRESH-INTERVAL:P3D
CALSCALE:GREGORIAN
BEGIN:VEVENT
DTSTART:20100615T150000Z
DTEND:20100615T170000Z
X-MICROSOFT-CDO-ALLDAYEVENT:FALSE
SUMMARY:June 15\, 2010 - HST Workshop
DESCRIPTION:
X-ALT-DESC;FMTTYPE=text/html:
LOCATION:
UID:e.749.1624
SEQUENCE:3
DTSTAMP:20260422T161206Z
URL:https://business.businessinsurrey.com/events/details/june-15-2010-hst-workshop-06-15-2010-1624
END:VEVENT

END:VCALENDAR
