BEGIN:VCALENDAR
VERSION:2.0
PRODID:-//ChamberMaster//Event Calendar 2.0//EN
METHOD:PUBLISH
X-PUBLISHED-TTL:P3D
REFRESH-INTERVAL:P3D
CALSCALE:GREGORIAN
BEGIN:VEVENT
DTSTART;VALUE=DATE:20120614
DTEND;VALUE=DATE:20120615
TRANSP:TRANSPARENT
X-MICROSOFT-CDO-ALLDAYEVENT:TRUE
SUMMARY:June 14\, 2012 - Golf Tournament
DESCRIPTION:Annual Fun in the Sun Networking Golf Tournament!\n\n\n\nAlways a sell out crowd - book early!
X-ALT-DESC;FMTTYPE=text/html:Annual Fun in the Sun Networking Golf Tournament!<br />\n<br />\nAlways a sell out crowd - book early!
LOCATION:Morgan Creek Golf Course
UID:e.749.1875
SEQUENCE:3
DTSTAMP:20260421T051326Z
URL:https://business.businessinsurrey.com/events/details/june-14-2012-golf-tournament-06-14-2012-1875
END:VEVENT

END:VCALENDAR
