BEGIN:VCALENDAR
VERSION:2.0
PRODID:-//ChamberMaster//Event Calendar 2.0//EN
METHOD:PUBLISH
X-PUBLISHED-TTL:P3D
REFRESH-INTERVAL:P3D
CALSCALE:GREGORIAN
BEGIN:VEVENT
DTSTART:20160610T143000Z
DTEND:20160610T163000Z
X-MICROSOFT-CDO-ALLDAYEVENT:FALSE
SUMMARY:June 10\, 2016 - The Business of Legalizing Marijuana
DESCRIPTION:The federal government has announced that legislation to legalize marijuana will be tabled in April 2017. The number of Dispensaries for marijuana have expanded dramatically and are only now being brought into regulation by municipal governments. As the Federal government moves to legalization\, what are the implications for business? What policies and regulations currently exist for our workplaces and how will those change with the new legislation?\n\n \n\nPlease join the Surrey Board of Trade for our Surrey Leadership Dialogue Breakfast THE BUSINESS OF LEGALIZING MARIJUANA on Friday\, June 10th.  \n\n \n\nA panel of experts will discuss:\n\n\n\n	Current legislation and regulation applying to alcohol\, drug use and employment standards \n	The implications of an employee who requires medical cannabis for a medical condition \n	The implications of employees using recreational cannabis on or off the job \n	What policies a business will need to review to ensure clarity and understanding amongst employers and employees when the new legislation is presented in 2017.
X-ALT-DESC;FMTTYPE=text/html:<div><span style="font-size:12px"><span style="font-family:arial">The federal government has announced that legislation to legalize marijuana will be tabled in April 2017. The number of Dispensaries for marijuana have expanded dramatically and are only now being brought into regulation by municipal governments. As the Federal government moves to legalization\, what are the implications for business? What policies and regulations currently exist for our workplaces and how will those change with the new legislation?</span></span></div>\n\n<div>&nbsp\;</div>\n\n<div><span style="font-size:12px"><span style="font-family:arial">Please join the Surrey Board of Trade for our Surrey Leadership Dialogue Breakfast&nbsp\;<strong>THE BUSINESS OF LEGALIZING MARIJUANA </strong>on <span><span class="aBn" data-term="goog_1724877976" tabindex="0"><span class="aQJ">Friday\, June 10th</span></span></span>. &nbsp\;</span></span></div>\n\n<div>&nbsp\;</div>\n\n<div><span style="font-size:12px"><span style="font-family:arial">A panel of experts will discuss:</span></span></div>\n\n<div>\n<ul>\n	<li><span style="font-size:12px"><span style="font-family:arial">Current legislation and regulation applying to alcohol\, drug use and employment standards&nbsp\;</span></span></li>\n	<li><span style="font-size:12px"><span style="font-family:arial">The implications of an employee who requires medical cannabis for a medical condition&nbsp\;</span></span></li>\n	<li><span style="font-size:12px"><span style="font-family:arial">The implications of employees using recreational cannabis on or off the job&nbsp\;</span></span></li>\n	<li><span style="font-size:12px"><span style="font-family:arial">What policies a business will need to review to ensure clarity and understanding amongst employers and employees when the new legislation is presented in 2017.&nbsp\;</span></span></li>\n</ul>\n</div>\n
LOCATION:Eaglequest Golf Course 7778 152 Street\, Surrey
UID:e.749.4796
SEQUENCE:3
DTSTAMP:20260424T083941Z
URL:https://business.businessinsurrey.com/events/details/june-10-2016-the-business-of-legalizing-marijuana-06-10-2016-4796
END:VEVENT

END:VCALENDAR
