BEGIN:VCALENDAR
VERSION:2.0
PRODID:-//ChamberMaster//Event Calendar 2.0//EN
METHOD:PUBLISH
X-PUBLISHED-TTL:P3D
REFRESH-INTERVAL:P3D
CALSCALE:GREGORIAN
BEGIN:VEVENT
DTSTART:20160706T144500Z
DTEND:20160706T170000Z
X-MICROSOFT-CDO-ALLDAYEVENT:FALSE
SUMMARY:July 6\, 2016 - Network Like a Pro!
DESCRIPTION:To maximize your networking efforts\, take time to identify who your audience is before you put your plan into action. By focusing your efforts on the right clients you can spend more time getting results!\n\n\n\nWhat we will do:\n\n\n\n1. You will identify who to network with\n\n\n\n2. You will identify where your top opportunities to network are\n\n\n\n3. You will build a strategy that has your prospects coming to you at events\n\n\n\nThis workshop is facilitated by Danny Kerr of Breakthrough Academy\, specializing in trades and service companies.
X-ALT-DESC;FMTTYPE=text/html:To maximize your networking efforts\, take time to identify who your audience is before you put your plan into action. By focusing your efforts on the right clients you can spend more time getting results!<br />\n<br />\nWhat we will do:<br />\n<br />\n1. You will identify who to network with<br />\n<br />\n2. You will identify where your top opportunities to network are<br />\n<br />\n3. You will build a strategy that has your prospects coming to you at events<br />\n<br />\n<strong>This workshop is facilitated by Danny Kerr of Breakthrough Academy\, specializing in trades and service companies.</strong>
LOCATION:Surrey Board of Trade (101 - 14439 104 Avenue)
UID:e.749.4870
SEQUENCE:3
DTSTAMP:20260424T070320Z
URL:https://business.businessinsurrey.com/events/details/july-6-2016-network-like-a-pro-07-06-2016-4870
END:VEVENT

END:VCALENDAR
