BEGIN:VCALENDAR
VERSION:2.0
PRODID:-//ChamberMaster//Event Calendar 2.0//EN
METHOD:PUBLISH
X-PUBLISHED-TTL:P3D
REFRESH-INTERVAL:P3D
CALSCALE:GREGORIAN
BEGIN:VEVENT
DTSTART:20100730T183000Z
DTEND:20100730T203000Z
X-MICROSOFT-CDO-ALLDAYEVENT:FALSE
SUMMARY:July 30\, 2010 - Minister Vic Toews Luncheon
DESCRIPTION:
X-ALT-DESC;FMTTYPE=text/html:
LOCATION:
UID:e.749.1645
SEQUENCE:3
DTSTAMP:20260422T145645Z
URL:https://business.businessinsurrey.com/events/details/july-30-2010-minister-vic-toews-luncheon-07-30-2010-1645
END:VEVENT

END:VCALENDAR
