BEGIN:VCALENDAR
VERSION:2.0
PRODID:-//ChamberMaster//Event Calendar 2.0//EN
METHOD:PUBLISH
X-PUBLISHED-TTL:P3D
REFRESH-INTERVAL:P3D
CALSCALE:GREGORIAN
BEGIN:VEVENT
DTSTART:20150728T200000Z
DTEND:20150728T220000Z
X-MICROSOFT-CDO-ALLDAYEVENT:FALSE
SUMMARY:July 28\, 2015 - International Seminar: Republic of Turkey
DESCRIPTION:SBOT International Seminar: Republic of Turkey - Trade | Investment | Cooperation | July 28\, Surrey\n\nThe Surrey Board of Trade in cooperation with the Canada Eurasia Russia Business Association (CERBA) -Vancouver and the Investment Support and Promotion Agency of the Republic of Turkey (ISPAT)\, the official organization of the Republic of Turkey Prime Ministry in charge of international investors\, are pleased to invite you\, our members\, and your associates to this seminar on business and investment opportunities offered by one the of the most dynamic countries of the Eurasian region - the Republic of Turkey.\n\nOur Honorable guest speaker - is Mr. Murat Ozdemir\, the Country Advisor of ISPAT who will offer information about the industrial interests and sectors with the most potential for cooperation with Canada in general and British Columbia in particular.
X-ALT-DESC;FMTTYPE=text/html:<p><strong>SBOT International Seminar: Republic of Turkey - Trade | Investment | Cooperation | July 28\, Surrey</strong></p>\n\n<p>The Surrey Board of Trade in cooperation with the Canada Eurasia Russia Business Association (CERBA) -Vancouver and the Investment Support and Promotion Agency of the Republic of Turkey (<strong>ISPAT</strong>)\, the official organization of the Republic of Turkey Prime Ministry in charge of international investors\, are pleased to invite you\, our members\, and your associates to this seminar on business and investment opportunities offered by one the of the most dynamic countries of the Eurasian region - the Republic of Turkey.</p>\n\n<p>Our Honorable guest speaker - is <a href="https://www.dropbox.com/s/4l5naf9w3jr5cqu/bio%20murat%20ozdemir%202015.docx?dl=0"><strong>Mr. Murat Ozdemir</strong></a>\, the Country Advisor of ISPAT who will offer information about the industrial interests and sectors with the most potential for cooperation with Canada in general and British Columbia in particular.</p>\n
LOCATION:Surrey Board of Trade Conference Room #10\, 14439 - 104 Avenue Surrey\, BC
UID:e.749.3621
SEQUENCE:3
DTSTAMP:20260423T153447Z
URL:https://business.businessinsurrey.com/events/details/july-28-2015-international-seminar-republic-of-turkey-07-28-2015-3621
END:VEVENT

END:VCALENDAR
