BEGIN:VCALENDAR
VERSION:2.0
PRODID:-//ChamberMaster//Event Calendar 2.0//EN
METHOD:PUBLISH
X-PUBLISHED-TTL:P3D
REFRESH-INTERVAL:P3D
CALSCALE:GREGORIAN
BEGIN:VEVENT
DTSTART:20120717T180000Z
DTEND:20120717T220000Z
X-MICROSOFT-CDO-ALLDAYEVENT:FALSE
SUMMARY:July 17\, 2012 - CDI College Business to Business
DESCRIPTION:Grand Opening of CDI College's new campus (11125 124th Street\, Surrey   next to Xcalibur Bowling Centre\, under the Patullo Bridge).  Join us from 11:00 a.m.   3:00 p.m. for a ribbon cutting with Surrey Mayor Dianne Watts\, tours of the 30\,000 square-foot campus\, a chance to win a $5000 scholarship\, and fun for the whole family! \n\n\n\nRadio host Johnny Staub from the Beat 94.5 will be on-site throughout the afternoon too!
X-ALT-DESC;FMTTYPE=text/html:<span style="font-size: 10pt\; font-family: Arial\;">Grand Opening of CDI College&rsquo\;s new campus (<b>11125 124<sup>th</sup> Street\, Surrey</b> &ndash\; next to Xcalibur Bowling Centre\, under the Patullo Bridge).&nbsp\; Join us from <b>11:00 a.m. &ndash\; 3:00 p.m.</b> for a ribbon cutting with Surrey Mayor Dianne Watts\, tours of the 30\,000 square-foot campus\, a chance to win a $5000 scholarship\, and fun for the whole family! </span><br />\n<br />\n<span style="font-family:arial\;"><span style="font-size:10.0pt\;">Radio host Johnny Staub from the Beat 94.5 will be on-site throughout the afternoon too!</span></span><br />\n
LOCATION:CDI College 11125 124th Street\, Surrey next to Xcalibur Bowling Centre\, under the Patullo Bridge
UID:e.749.2082
SEQUENCE:3
DTSTAMP:20260421T034204Z
URL:https://business.businessinsurrey.com/events/details/july-17-2012-cdi-college-business-to-business-07-17-2012-2082
END:VEVENT

END:VCALENDAR
