BEGIN:VCALENDAR
VERSION:2.0
PRODID:-//ChamberMaster//Event Calendar 2.0//EN
METHOD:PUBLISH
X-PUBLISHED-TTL:P3D
REFRESH-INTERVAL:P3D
CALSCALE:GREGORIAN
BEGIN:VEVENT
DTSTART:20120712T143000Z
DTEND:20120712T160000Z
X-MICROSOFT-CDO-ALLDAYEVENT:FALSE
SUMMARY:July 12\, 2012 - Community Safety Breakfast
DESCRIPTION:Guest Speakers:\n\nScott Campbell\, Staff Sergeant for RCMP District #1\n\n\n\nDave Jones\, Security Consultant for Downtown Vancouver BIA\n\nSecurity Consultant\, JSI Security and Investigations Inc.\n\nBefore consulting for the Downtown Vancouver Business\n\nImprovement Association\, Dave had been an important\n\npart of DVBIA activity for more than eight years in his\n\ncapacity as the officer commanding District One for the\n\nVancouver Police Department. One of Vancouver's most\n\nrespected senior police officers with a career spanning\n\nalmost 30 years\, he has had advanced police training with\n\nLondon Metropolitan Police\, the U.S. Federal Bureau of\n\nInvestigation and in this country.
X-ALT-DESC;FMTTYPE=text/html:Guest Speakers:<br />\n<strong>Scott Campbell\, Staff Sergeant for RCMP District #1</strong><br />\n<br />\n<strong>Dave Jones\, Security Consultant for Downtown Vancouver BIA</strong><br />\nSecurity Consultant\, JSI Security and Investigations Inc.<br />\nBefore consulting for the Downtown Vancouver Business<br />\nImprovement Association\, Dave had been an important<br />\npart of DVBIA activity for more than eight years in his<br />\ncapacity as the officer commanding District One for the<br />\nVancouver Police Department. One of Vancouver&#39\;s most<br />\nrespected senior police officers with a career spanning<br />\nalmost 30 years\, he has had advanced police training with<br />\nLondon Metropolitan Police\, the U.S. Federal Bureau of<br />\nInvestigation and in this country.
LOCATION:Compass Point Inn\, 9850 King George Blvd.
UID:e.749.2079
SEQUENCE:3
DTSTAMP:20260421T033913Z
URL:https://business.businessinsurrey.com/events/details/july-12-2012-community-safety-breakfast-07-12-2012-2079
END:VEVENT

END:VCALENDAR
