BEGIN:VCALENDAR
VERSION:2.0
PRODID:-//ChamberMaster//Event Calendar 2.0//EN
METHOD:PUBLISH
X-PUBLISHED-TTL:P3D
REFRESH-INTERVAL:P3D
CALSCALE:GREGORIAN
BEGIN:VEVENT
DTSTART:20120620T023000Z
DTEND:20120620T053000Z
X-MICROSOFT-CDO-ALLDAYEVENT:FALSE
SUMMARY:John Mellencamp
DESCRIPTION:John Mellencamp\, named "the poet laureate of the interstate" by Cam Fuller writing for The Saskatoon Star Phoenix\, brings his No Better Than This Tour for a cross Canada trek\, from west to east\, over the course of five weeks starting mid June. The tour starts in British Columbia and continues east\, including concert performances in Alberta\, Saskatchewan\, Ontario\, Prince Edward Island\, New Brunswick\, Nova Scotia and Newfoundland.
X-ALT-DESC;FMTTYPE=text/html:<p class="MsoNormal" style="margin: 0cm 0cm 10pt">\n	<font color="#000000" face="Calibri" size="3">John Mellencamp\, named &quot\;the poet laureate of the interstate&quot\; by Cam Fuller writing for The Saskatoon Star Phoenix\, brings his No Better Than This Tour for a cross Canada trek\, from west to east\, over the course of five weeks starting mid June. The tour starts in British Columbia and continues east\, including concert performances in Alberta\, Saskatchewan\, Ontario\, Prince Edward Island\, New Brunswick\, Nova Scotia and Newfoundland.</font></p>\n
LOCATION:Abbotsford Entertainment & Sports Centre
UID:e.749.2026
SEQUENCE:3
DTSTAMP:20260421T083133Z
URL:https://business.businessinsurrey.com/events/details/john-mellencamp-06-19-2012-2026
END:VEVENT

END:VCALENDAR
