BEGIN:VCALENDAR
VERSION:2.0
PRODID:-//ChamberMaster//Event Calendar 2.0//EN
METHOD:PUBLISH
X-PUBLISHED-TTL:P3D
REFRESH-INTERVAL:P3D
CALSCALE:GREGORIAN
BEGIN:VEVENT
DTSTART:20150726T140000Z
DTEND:20150726T200000Z
X-MICROSOFT-CDO-ALLDAYEVENT:FALSE
SUMMARY:Jog for the Bog
DESCRIPTION:The Jog for the Bog is a 5km and 10km run/walk for all skill-levels. The proceeds from the event go towards the educational programming run by the Burns Bog Conservation Society. \n\n\n\nThe early bird pricing is until June 26th and is $40 for the 5k and $45 for the 10k. Regular pricing is $45 for the 5k and $50 for the 10k. This price includes a free pancake breakfast and a moisture wicking t-shirt for the participants.The event will feature live entertainment and many different exhibitors.There will also be raffles\, 50-50 draws and prizes for participants.\n\n\n\nIf you fundraise more than $100\, your entrance is free! \n\n\n\nPlease contact events@burnsbog.org for more information or to register. You can also see our website (www.jogforthebog.org) for more details on the race\, and to learn more about the Burns Bog Conservation Society.
X-ALT-DESC;FMTTYPE=text/html:<p class="MsoNormal" style="margin-bottom:0cm\;margin-bottom:.0001pt\;line-height:\nnormal"><span style="font-size: 10pt\; font-family: Arial\, sans-serif\; border: 1pt none windowtext\; padding: 0cm\;">The Jog for the Bog is a 5km and 10km run/walk for all skill-levels. The proceeds from the event go towards the educational programming run by the Burns Bog Conservation Society.&nbsp\;<br />\n<br />\nThe early bird pricing is until June 26th and is $40 for the 5k and $45 for the 10k. Regular pricing is $45 for the 5k and $50 for the 10k. This price includes a free pancake breakfast and a moisture wicking t-shirt for the participants.The event will feature live entertainment and many different exhibitors.There will also be raffles\, 50-50 draws and prizes for participants.<br />\n<br />\nIf you fundraise more than $100\, your entrance is free!&nbsp\;<br />\n<br />\nPlease contact events@burnsbog.org for more information or to register. You can also see our website (www.jogforthebog.org) for more details on the race\, and to learn more about the Burns Bog Conservation Society.</span><span style="font-size: 10pt\; font-family: Arial\, sans-serif\;"><o:p></o:p></span></p>\n
LOCATION:10388 Nordel Court\, Delta (Planet Ice)
UID:e.749.3596
SEQUENCE:3
DTSTAMP:20260423T170716Z
URL:https://business.businessinsurrey.com/events/details/jog-for-the-bog-07-26-2015-3596
END:VEVENT

END:VCALENDAR
