BEGIN:VCALENDAR
VERSION:2.0
PRODID:-//ChamberMaster//Event Calendar 2.0//EN
METHOD:PUBLISH
X-PUBLISHED-TTL:P3D
REFRESH-INTERVAL:P3D
CALSCALE:GREGORIAN
BEGIN:VEVENT
DTSTART;VALUE=DATE:20100128
DTEND;VALUE=DATE:20100129
TRANSP:TRANSPARENT
X-MICROSOFT-CDO-ALLDAYEVENT:TRUE
SUMMARY:January 28\, 2010 - Translink CEO Luncheon
DESCRIPTION:
X-ALT-DESC;FMTTYPE=text/html:
LOCATION:
UID:e.749.1575
SEQUENCE:3
DTSTAMP:20260423T023936Z
URL:https://business.businessinsurrey.com/events/details/january-28-2010-translink-ceo-luncheon-01-28-2010-1575
END:VEVENT

END:VCALENDAR
