BEGIN:VCALENDAR
VERSION:2.0
PRODID:-//ChamberMaster//Event Calendar 2.0//EN
METHOD:PUBLISH
X-PUBLISHED-TTL:P3D
REFRESH-INTERVAL:P3D
CALSCALE:GREGORIAN
BEGIN:VEVENT
DTSTART;VALUE=DATE:20090127
DTEND;VALUE=DATE:20090128
TRANSP:TRANSPARENT
X-MICROSOFT-CDO-ALLDAYEVENT:TRUE
SUMMARY:January 27\, 09 Business Breakfast Roundtable
DESCRIPTION:
X-ALT-DESC;FMTTYPE=text/html:
LOCATION:
UID:e.749.1479
SEQUENCE:3
DTSTAMP:20260423T214734Z
URL:https://business.businessinsurrey.com/events/details/january-27-09-business-breakfast-roundtable-01-27-2009-1479
END:VEVENT

END:VCALENDAR
