BEGIN:VCALENDAR
VERSION:2.0
PRODID:-//ChamberMaster//Event Calendar 2.0//EN
METHOD:PUBLISH
X-PUBLISHED-TTL:P3D
REFRESH-INTERVAL:P3D
CALSCALE:GREGORIAN
BEGIN:VEVENT
DTSTART:20160126T160000Z
DTEND:20160126T180000Z
X-MICROSOFT-CDO-ALLDAYEVENT:FALSE
SUMMARY:January 26\, 2016 - Dealing with Employment Standards
DESCRIPTION:At this session\, employment lawyers Sarah Morse and Robert Finlay will discuss strategies and tactics for dealing with the Employment Standards Branch and the interplay between the Employment Standards Act and wrongful dismissal actions at common law.
X-ALT-DESC;FMTTYPE=text/html:At this session\, employment lawyers Sarah Morse and Robert Finlay will discuss strategies and tactics for dealing with the Employment Standards Branch and the interplay between the Employment Standards Act and wrongful dismissal actions at common law.
LOCATION:Please note the change in location: Guildford Golf & Country Club 7929 152 Street\, Surrey
UID:e.749.3735
SEQUENCE:3
DTSTAMP:20260424T011254Z
URL:https://business.businessinsurrey.com/events/details/january-26-2016-dealing-with-employment-standards-01-26-2016-3735
END:VEVENT

END:VCALENDAR
