BEGIN:VCALENDAR
VERSION:2.0
PRODID:-//ChamberMaster//Event Calendar 2.0//EN
METHOD:PUBLISH
X-PUBLISHED-TTL:P3D
REFRESH-INTERVAL:P3D
CALSCALE:GREGORIAN
BEGIN:VEVENT
DTSTART:20160121T010000Z
DTEND:20160121T040000Z
X-MICROSOFT-CDO-ALLDAYEVENT:FALSE
SUMMARY:January 20\, 2016 - New Year's Business Reception
DESCRIPTION:Join us at the Surrey Board of Trade's\n\nNew Year's Business Reception\n\n\n\nThe Surrey Board of Trade invites you to their office to learn more about:\n\nInternational Trade Centre * Business Centre * Events * Government Advocacy * Membership Value * Advertising and Marketing Opportunities * Business in Surrey Newspaper
X-ALT-DESC;FMTTYPE=text/html:<strong>Join us at the Surrey Board of Trade&#39\;s<br />\nNew Year&rsquo\;s Business Reception</strong><br />\n<br />\nThe Surrey Board of Trade invites you to their office to learn more about:<br />\nInternational Trade Centre * Business Centre * Events * Government Advocacy * Membership Value * Advertising and Marketing Opportunities * Business in Surrey Newspaper
LOCATION:Surrey Board of Trade 101\, 14439 104 Avenue\, Surrey
UID:e.749.3688
SEQUENCE:3
DTSTAMP:20260424T011459Z
URL:https://business.businessinsurrey.com/events/details/january-20-2016-new-year-s-business-reception-01-20-2016-3688
END:VEVENT

END:VCALENDAR
