BEGIN:VCALENDAR
VERSION:2.0
PRODID:-//ChamberMaster//Event Calendar 2.0//EN
METHOD:PUBLISH
X-PUBLISHED-TTL:P3D
REFRESH-INTERVAL:P3D
CALSCALE:GREGORIAN
BEGIN:VEVENT
DTSTART:20160119T154500Z
DTEND:20160119T180000Z
X-MICROSOFT-CDO-ALLDAYEVENT:FALSE
SUMMARY:January 19\, 2016 - Building Bridges - A Conversation about Business and the Arts Workshop
DESCRIPTION:Are we speaking the same language?\n\nAre we listening to each other?\n\nAre our conversations two way?\n\n\n\n\nJoin Surrey Civic Treasure Chris Thornley in exploring ways the arts community can reach out to the business community. \n\nAttend this workshop to discuss: \n\n\n	Overcoming stereo types\n	Valuing all parties\n	Recognizing and creating opportunities to support each other\n\n\nChris Thornley is a Surrey cultural business owner\, arts advocate\, philanthropist and musician. He is the president and creative director of Thornley Creative Communications.
X-ALT-DESC;FMTTYPE=text/html:<span style="font-size:12px\;"><span style="font-family: arial\;">Are we speaking the same language?<br />\nAre we listening to each other?<br />\nAre our conversations two way?</span></span>\n\n<div class="page" title="Page 1">\n<div class="layoutArea">\n<div class="column">\n<p><span style="font-size:12px\;"><span style="font-family: arial\;">Join Surrey Civic Treasure Chris Thornley in exploring ways the arts community can reach out to the business community. </span></span></p>\n\n<p><span style="font-size:12px\;"><span style="font-family: arial\;"><span style="font-weight: 700\;">Attend this workshop to discuss: </span></span></span></p>\n\n<ul>\n	<li><span style="font-size:12px\;"><span style="font-family: arial\;">Overcoming stereo types</span></span></li>\n	<li><span style="font-size:12px\;"><span style="font-family: arial\;">Valuing all parties</span></span></li>\n	<li><span style="font-size:12px\;"><span style="font-family: arial\;">Recognizing and creating opportunities to support each other</span></span></li>\n</ul>\n\n<p><span style="font-size:12px\;"><span style="font-family: arial\;"><span style="font-style: italic\;">Chris Thornley is a Surrey cultural business owner\, arts advocate\, philanthropist and musician. He is the president and creative director of Thornley Creative Communications. </span></span></span></p>\n</div>\n</div>\n</div>\n
LOCATION:Surrey Board of Trade 101 - 14439 104 Avenue
UID:e.749.3734
SEQUENCE:3
DTSTAMP:20260424T011804Z
URL:https://business.businessinsurrey.com/events/details/january-19-2016-building-bridges-a-conversation-about-business-and-the-arts-workshop-01-19-2016-3734
END:VEVENT

END:VCALENDAR
