BEGIN:VCALENDAR
VERSION:2.0
PRODID:-//ChamberMaster//Event Calendar 2.0//EN
METHOD:PUBLISH
X-PUBLISHED-TTL:P3D
REFRESH-INTERVAL:P3D
CALSCALE:GREGORIAN
BEGIN:VEVENT
DTSTART:20110120T010000Z
DTEND:20110120T040000Z
X-MICROSOFT-CDO-ALLDAYEVENT:FALSE
SUMMARY:January 19\, 2011 - SBOT New Year's Business Reception
DESCRIPTION:Join us at the Surrey Board of Trade's New Year's Business Reception!\n\n	\n\n	The Surrey Board of Trade invites you to learn more about:\n\n	\n		The Business Resource Centre\n	\n		Events\n	\n		Government Advocacy\n	\n		Membership Value\n	\n		Advertising and Marketing Opportunities\n	\n		Business in Surrey Newspaper\n\n\n	Bring a non-member guest and be entered in the draw to win a special prize!\n\n	\n\n	Sponsorship and Vendor Opportunities available!\n\n	"Buy" a staff member's office for the night and make it your own!\n\n	 \n\n	\n		Display your business items!\n	\n		Decorate "your" office!\n	\n		Meet new business leads!\n\n\n	For more details regarding sponsorship opportunities\, please contat Brianne Colbert at 604-581-7130 or brianne@businessinsurrey.com.
X-ALT-DESC;FMTTYPE=text/html:<p>\n	<span style="color: #008000"><strong><span style="font-size: 14px"><span style="font-family: arial">Join us at the Surrey Board of Trade&#39\;s New Year&#39\;s Business Reception!</span></span></strong></span><br />\n	<br />\n	The Surrey Board of Trade invites you to learn more about:</p>\n<ul>\n	<li>\n		The Business Resource Centre</li>\n	<li>\n		Events</li>\n	<li>\n		Government Advocacy</li>\n	<li>\n		Membership Value</li>\n	<li>\n		Advertising and Marketing Opportunities</li>\n	<li>\n		Business in Surrey Newspaper</li>\n</ul>\n<p>\n	Bring a non-member guest and be entered in the draw to win a special prize!<br />\n	<br />\n	Sponsorship and Vendor Opportunities available!<br />\n	&quot\;Buy&quot\; a staff member&#39\;s office for the night and make it your own!<br />\n	&nbsp\;</p>\n<ul>\n	<li>\n		Display your business items!</li>\n	<li>\n		Decorate &quot\;your&quot\; office!</li>\n	<li>\n		Meet new business leads!</li>\n</ul>\n<p>\n	For more details regarding sponsorship opportunities\, please contat Brianne Colbert at 604-581-7130 or <a href="mailto:brianne@businessinsurrey.com">brianne@businessinsurrey.com</a>.</p>\n
LOCATION:Surrey Board of Trade Office #101 - 14439 104 Avenue\, Surrey
UID:e.749.1651
SEQUENCE:3
DTSTAMP:20260422T094432Z
URL:https://business.businessinsurrey.com/events/details/january-19-2011-sbot-new-year-s-business-reception-01-19-2011-1651
END:VEVENT

END:VCALENDAR
