BEGIN:VCALENDAR
VERSION:2.0
PRODID:-//ChamberMaster//Event Calendar 2.0//EN
METHOD:PUBLISH
X-PUBLISHED-TTL:P3D
REFRESH-INTERVAL:P3D
CALSCALE:GREGORIAN
BEGIN:VEVENT
DTSTART:20160116T160000Z
DTEND:20160116T183000Z
X-MICROSOFT-CDO-ALLDAYEVENT:FALSE
SUMMARY:January 16\, 2016 - Breakfast with Federal Finance Minister Bill Morneau
DESCRIPTION:The Honourable Bill Morneau\, Minister of Finance and MP for Toronto Centre\, will make his inaugural speech to the Surrey Board of Trade on Saturday\, January 16th. \n\n\n\nCanada's new Liberal government made a series of pre-election commitments and Surrey responded by electing four new government MPs. As a business association\, the Surrey Board of Trade is focused on promised federal investments for infrastructure including transit\, health\, education\, and social housing   all key drivers of Surrey's economic future.\n\n\n\nBring your questions and suggestions to this important breakfast dialogue and find out how you can benefit by supporting development in Surrey.\n\n\n\nOnline registration is now closed. If you wish to attend this event\, please call 604-581-7130.
X-ALT-DESC;FMTTYPE=text/html:The Honourable Bill Morneau\, Minister of Finance and MP for Toronto Centre\, will make his inaugural speech to the Surrey Board of Trade on Saturday\, January 16<sup>th. </sup><br />\n<br />\nCanada&rsquo\;s new Liberal government made a series of pre-election commitments and Surrey responded by electing four new government MPs. As a business association\, the Surrey Board of Trade is focused on promised federal investments for infrastructure including transit\, health\, education\, and social housing &mdash\; all key drivers of Surrey&rsquo\;s economic future.<br />\n<br />\nBring your questions and suggestions to this important breakfast dialogue and find out how you can benefit by supporting development in Surrey.<br />\n<br />\n<span style="color:#FF0000\;"><strong>Online registration is now closed. If you wish to attend this event\, please call 604-581-7130. </strong></span>
LOCATION:Aria Banquet & Convention Centre 12350 Pattullo Place\, Surrey
UID:e.749.4765
SEQUENCE:3
DTSTAMP:20260424T012013Z
URL:https://business.businessinsurrey.com/events/details/january-16-2016-breakfast-with-federal-finance-minister-bill-morneau-01-16-2016-4765
END:VEVENT

END:VCALENDAR
