BEGIN:VCALENDAR
VERSION:2.0
PRODID:-//ChamberMaster//Event Calendar 2.0//EN
METHOD:PUBLISH
X-PUBLISHED-TTL:P3D
REFRESH-INTERVAL:P3D
CALSCALE:GREGORIAN
BEGIN:VEVENT
DTSTART;VALUE=DATE:20100113
DTEND;VALUE=DATE:20100114
TRANSP:TRANSPARENT
X-MICROSOFT-CDO-ALLDAYEVENT:TRUE
SUMMARY:January 13\, '10 - Regional Growth Workshop
DESCRIPTION:
X-ALT-DESC;FMTTYPE=text/html:
LOCATION:
UID:e.749.1567
SEQUENCE:3
DTSTAMP:20260423T024016Z
URL:https://business.businessinsurrey.com/events/details/january-13-10-regional-growth-workshop-01-13-2010-1567
END:VEVENT

END:VCALENDAR
