BEGIN:VCALENDAR
VERSION:2.0
PRODID:-//ChamberMaster//Event Calendar 2.0//EN
METHOD:PUBLISH
X-PUBLISHED-TTL:P3D
REFRESH-INTERVAL:P3D
CALSCALE:GREGORIAN
BEGIN:VEVENT
DTSTART:20160223T170000Z
DTEND:20160223T200000Z
X-MICROSOFT-CDO-ALLDAYEVENT:FALSE
SUMMARY:International Trade Dispute Prevention and Resolution
DESCRIPTION:Year over year\, customs has been increasing both the quantity and monetary penalties to non-compliant importers. Bring your questions to this experienced panel of trade compliance experts who can explain the steps companies can take to mitigate risk of customs penalties and understand the process and options surrounding dispute resolution. This session will pose a series of common scenarios that companies face when dealing with both Canada Border Services Agency and U.S. Customs and Border Protection. Follow along each scenario as they escalate from notification to settlement.
X-ALT-DESC;FMTTYPE=text/html:Year over year\, customs has been increasing both the quantity and monetary penalties to non-compliant importers. Bring your questions to this experienced panel of trade compliance experts who can explain the steps companies can take to mitigate risk of customs penalties and understand the process and options surrounding dispute resolution. This session will pose a series of common scenarios that companies face when dealing with both Canada Border Services Agency and U.S. Customs and Border Protection. Follow along each scenario as they escalate from notification to settlement.
LOCATION:Deloitte\, 1055 Dunsmuir Street\, Vancouver - 28th Floor
UID:e.749.3751
SEQUENCE:3
DTSTAMP:20260424T024352Z
URL:https://business.businessinsurrey.com/events/details/international-trade-dispute-prevention-and-resolution-02-23-2016-3751
END:VEVENT

END:VCALENDAR
