BEGIN:VCALENDAR
VERSION:2.0
PRODID:-//ChamberMaster//Event Calendar 2.0//EN
METHOD:PUBLISH
X-PUBLISHED-TTL:P3D
REFRESH-INTERVAL:P3D
CALSCALE:GREGORIAN
BEGIN:VEVENT
DTSTART;VALUE=DATE:20160515
DTEND;VALUE=DATE:20160516
TRANSP:TRANSPARENT
X-MICROSOFT-CDO-ALLDAYEVENT:TRUE
SUMMARY:Indian Classical Sitar
DESCRIPTION:Showcasing Sitar concert of Pandit (Dr.) Harvinder Sharma\, a brilliant maestro who will play Indian Classical ragas and folk music. This glorious music will transcend you to heightened Nirvana - Experience Sitar with your heart\, soul and spirit. Pandit Harvinder Sharma is a Sitar maestro with profound musical acumen and been awarded numerous prestigious honor in India by State Government and various organizations with highest recognition.
X-ALT-DESC;FMTTYPE=text/html:Showcasing Sitar concert of Pandit (Dr.) Harvinder Sharma\, a brilliant maestro who will play Indian Classical ragas and folk music. This glorious music will transcend you to heightened Nirvana - Experience Sitar with your heart\, soul and spirit. Pandit Harvinder Sharma is a Sitar maestro with profound musical acumen and been awarded numerous prestigious honor in India by State Government and various organizations with highest recognition.
LOCATION:Burnaby Hall\, 7837 Canada Way\, Burnaby BC
UID:e.749.4908
SEQUENCE:3
DTSTAMP:20260424T070314Z
URL:https://business.businessinsurrey.com/events/details/indian-classical-sitar-05-15-2016-4908
END:VEVENT

END:VCALENDAR
