BEGIN:VCALENDAR
VERSION:2.0
PRODID:-//ChamberMaster//Event Calendar 2.0//EN
METHOD:PUBLISH
X-PUBLISHED-TTL:P3D
REFRESH-INTERVAL:P3D
CALSCALE:GREGORIAN
BEGIN:VEVENT
DTSTART:20160221T030000Z
DTEND:20160221T060000Z
X-MICROSOFT-CDO-ALLDAYEVENT:FALSE
SUMMARY:Ignite a Dream
DESCRIPTION:The Surrey Fire Fighters' Charitable Society and Semiahmoo Shopping Centre invite you to our 3rd Annual Ignite a Dream event featuring wine tasting\, culinary delights\, musical entertainment and silent auction.
X-ALT-DESC;FMTTYPE=text/html:The Surrey Fire Fighters&#39\; Charitable Society and Semiahmoo Shopping Centre invite you to our 3rd Annual Ignite a Dream event featuring wine tasting\, culinary delights\, musical entertainment and silent auction.
LOCATION:Semiahmoo Shopping Centre
UID:e.749.4777
SEQUENCE:3
DTSTAMP:20260424T035400Z
URL:https://business.businessinsurrey.com/events/details/ignite-a-dream-02-20-2016-4777
END:VEVENT

END:VCALENDAR
