BEGIN:VCALENDAR
VERSION:2.0
PRODID:-//ChamberMaster//Event Calendar 2.0//EN
METHOD:PUBLISH
X-PUBLISHED-TTL:P3D
REFRESH-INTERVAL:P3D
CALSCALE:GREGORIAN
BEGIN:VEVENT
DTSTART:20160130T223000Z
DTEND:20160130T233000Z
X-MICROSOFT-CDO-ALLDAYEVENT:FALSE
SUMMARY:How to Pay for School
DESCRIPTION:Scholarships\, bursaries\, financial aid\, what are these? What is the difference? And how do you apply? Come answer these questions and more in our session. Register by calling 604-598-7366 or email AJHomfeld@surrey.ca
X-ALT-DESC;FMTTYPE=text/html:Scholarships\, bursaries\, financial aid\, what are these? What is the difference? And how do you apply? Come answer these questions and more in our session. Register by calling 604-598-7366 or email AJHomfeld@surrey.ca
LOCATION:Guildford Library: 15105 105 Avenue\, Surrey\, BC
UID:e.749.4763
SEQUENCE:3
DTSTAMP:20260424T024035Z
URL:https://business.businessinsurrey.com/events/details/how-to-pay-for-school-01-30-2016-4763
END:VEVENT

END:VCALENDAR
