BEGIN:VCALENDAR
VERSION:2.0
PRODID:-//ChamberMaster//Event Calendar 2.0//EN
METHOD:PUBLISH
X-PUBLISHED-TTL:P3D
REFRESH-INTERVAL:P3D
CALSCALE:GREGORIAN
BEGIN:VEVENT
DTSTART:20150819T144500Z
DTEND:20150819T181500Z
X-MICROSOFT-CDO-ALLDAYEVENT:FALSE
SUMMARY:How to get faster and higher ROI from business technologies Workshop
DESCRIPTION:Learn tools and techniques to help select and implement business technologies\, avoid implementation pitfalls\, and accelerate the return on investment
X-ALT-DESC;FMTTYPE=text/html:Learn tools and techniques to help select and implement business technologies\, avoid implementation pitfalls\, and accelerate the return on investment
LOCATION:Sheraton Vancouver Guildford Hotel\, Barnston Room - 15269 104 Ave. Surrey\, BC V3R 1N5
UID:e.749.3638
SEQUENCE:3
DTSTAMP:20260423T171028Z
URL:https://business.businessinsurrey.com/events/details/how-to-get-faster-and-higher-roi-from-business-technologies-workshop-08-19-2015-3638
END:VEVENT

END:VCALENDAR
